BEGIN:VCALENDAR
VERSION:2.0
PRODID:-//jEvents 2.0 for Joomla//EN
CALSCALE:GREGORIAN
METHOD:PUBLISH
BEGIN:VEVENT
UID:2b28bac2dd47e5124b6b906e8db45b95
CATEGORIES:Polar Conferences, Meetings and Events
CREATED:20190405T111515
SUMMARY:Greenland Science Week
LOCATION:Nuuk\, Greenland
DESCRIPTION:A new and ambitious Arctic science conference is born – Greenland Science W
 eek. The conference invites researchers, business partners, policy makers a
 nd organizations along with the general public to participate in a week foc
 using on science in the Arctic.\nThe conference takes place with a variety 
 of activities focusing on research dissemination, cultural events and netwo
 rking. Drawing on the past years’ success of the Polar Research Day held in
  Denmark until 2018, the GSW is based in Nuuk, Greenland.\nThe first of its
  kind in Greenland, GSW 2019 aims at connecting the Greenlandic research co
 mmunity and citizens with the international science community.\nAllan Olsen
 , chair of the organizing committee of the GSW conference, says:\n”I am loo
 king very much forward to Greenland Science Week. Greenland Science Week in
 cludes the public and creates a forum for exchange and networking between t
 he Greenlandic and the international science community within the common in
 terests and understanding of the importance of research in the Arctic.”\nBr
 idging the gap between the international and Greenlandic research on one ha
 nd and Greenlandic public on the other, the conference includes research pr
 esentations, cultural activities such as movies and workshops, along with a
  PhD-course and theme events.\nAs a prelude for the Polar Research Day conf
 erence, science events organized by external partners will take place from 
 December 1-3. The GSW 2019 conference officially begins with a welcoming re
 ception in the evening Tuesday 3rd. The main conference days will be Wednes
 day 4th and Thursday 5th where the focus will be on Arctic science. On the 
 programme Wednesday will be conference presentations and a dinner in the ev
 ening, while the Thursday programme will focus on the dissemination of rese
 arch through presentations and posters.\nOverview of programme:\n• Monday 0
 2.12.19: GSW Events: workshops/seminars/networking activities\n• Tuesday 03
 .12.19: GSW Events: workshops/seminars/networking activities\n• Wednesday 0
 4.12.19: Polar Research Day Conference\n• Thursday 05.12.19: Public Outreac
 h Day.\nStay updated about GSW 2019 under ‘events’ on the official website 
 of University of Greenland (https://uni.gl/).\nAbstract submission deadline
 : 30 September 2019\nRegistration deadline: 15 November 2019\nFor more info
 rmation, contact: Allan Olsen, project coordinator, Greenland Perspective, 
 Ilisimatusarfik, University of Greenland, e-mail: This email address is bei
 ng protected from spambots. You need JavaScript enabled to view it.
				doc
 ument.getElementById('cloak0a2ae62276fb6e057aa5a0a78aacbf07').innerHTML = '
 ';
				var prefix = '&#109;a' + 'i&#108;' + '&#116;o';
				var path = 'hr' 
 + 'ef' + '=';
				var addy0a2ae62276fb6e057aa5a0a78aacbf07 = '&#97;&#111;ls
 ' + '&#64;';
				addy0a2ae62276fb6e057aa5a0a78aacbf07 = addy0a2ae62276fb6e0
 57aa5a0a78aacbf07 + '&#117;n&#105;' + '&#46;' + 'gl';
				var addy_text0a2a
 e62276fb6e057aa5a0a78aacbf07 = '&#97;&#111;ls' + '&#64;' + '&#117;n&#105;' 
 + '&#46;' + 'gl';document.getElementById('cloak0a2ae62276fb6e057aa5a0a78aac
 bf07').innerHTML += '<a ' + path + '\'' + prefix + ':' + addy0a2ae62276fb6e
 057aa5a0a78aacbf07 + '\'>'+addy_text0a2ae62276fb6e057aa5a0a78aacbf07+'';
		
 \n
X-ALT-DESC;FMTTYPE=text/html:<p>A new and ambitious Arctic science conference is born – Greenland Scienc
 e Week. The conference invites researchers, business partners, policy maker
 s and organizations along with the general public to participate in a week 
 focusing on science in the Arctic.</p><p>The conference takes place with a 
 variety of activities focusing on research dissemination, cultural events a
 nd networking. Drawing on the past years’ success of the Polar Research Day
  held in Denmark until 2018, the GSW is based in Nuuk, Greenland.</p><p>The
  first of its kind in Greenland, GSW 2019 aims at connecting the Greenlandi
 c research community and citizens with the international science community.
 </p><p>Allan Olsen, chair of the organizing committee of the GSW conference
 , says:<br />”I am looking very much forward to Greenland Science Week. Gre
 enland Science Week includes the public and creates a forum for exchange an
 d networking between the Greenlandic and the international science communit
 y within the common interests and understanding of the importance of resear
 ch in the Arctic.”<br />Bridging the gap between the international and Gree
 nlandic research on one hand and Greenlandic public on the other, the confe
 rence includes research presentations, cultural activities such as movies a
 nd workshops, along with a PhD-course and theme events.</p><p>As a prelude 
 for the Polar Research Day conference, science events organized by external
  partners will take place from December 1-3. The GSW 2019 conference offici
 ally begins with a welcoming reception in the evening Tuesday 3rd. The main
  conference days will be Wednesday 4th and Thursday 5th where the focus wil
 l be on Arctic science. On the programme Wednesday will be conference prese
 ntations and a dinner in the evening, while the Thursday programme will foc
 us on the dissemination of research through presentations and posters.</p><
 p>Overview of programme:<br />• Monday 02.12.19: GSW Events: workshops/semi
 nars/networking activities<br />• Tuesday 03.12.19: GSW Events: workshops/s
 eminars/networking activities<br />• Wednesday 04.12.19: Polar Research Day
  Conference<br />• Thursday 05.12.19: Public Outreach Day.</p><p>Stay updat
 ed about GSW 2019 under ‘events’ on the&nbsp;<a href="https://uni.gl/">offi
 cial website of University of Greenland</a>.</p><p><strong>Abstract submiss
 ion deadline:</strong>&nbsp;30 September 2019<br /><strong>Registration dea
 dline:&nbsp;</strong>15 November 2019</p><p>For more information, contact: 
 Allan Olsen, project coordinator, Greenland Perspective, Ilisimatusarfik, U
 niversity of Greenland, e-mail:&nbsp;<span id="cloak0a2ae62276fb6e057aa5a0a
 78aacbf07">This email address is being protected from spambots. You need Ja
 vaScript enabled to view it.</span><script type='text/javascript'>
				docu
 ment.getElementById('cloak0a2ae62276fb6e057aa5a0a78aacbf07').innerHTML = ''
 ;
				var prefix = '&#109;a' + 'i&#108;' + '&#116;o';
				var path = 'hr' +
  'ef' + '=';
				var addy0a2ae62276fb6e057aa5a0a78aacbf07 = '&#97;&#111;ls'
  + '&#64;';
				addy0a2ae62276fb6e057aa5a0a78aacbf07 = addy0a2ae62276fb6e05
 7aa5a0a78aacbf07 + '&#117;n&#105;' + '&#46;' + 'gl';
				var addy_text0a2ae
 62276fb6e057aa5a0a78aacbf07 = '&#97;&#111;ls' + '&#64;' + '&#117;n&#105;' +
  '&#46;' + 'gl';document.getElementById('cloak0a2ae62276fb6e057aa5a0a78aacb
 f07').innerHTML += '<a ' + path + '\'' + prefix + ':' + addy0a2ae62276fb6e0
 57aa5a0a78aacbf07 + '\'>'+addy_text0a2ae62276fb6e057aa5a0a78aacbf07+'<\/a>'
 ;
		</script></p>
DTSTAMP:20260423T222406Z
DTSTART;TZID=UTC;VALUE=DATE:20191201
DTEND;TZID=UTC;VALUE=DATE:20191206
SEQUENCE:0
TRANSP:OPAQUE
END:VEVENT
END:VCALENDAR