BEGIN:VCALENDAR
VERSION:2.0
PRODID:-//jEvents 2.0 for Joomla//EN
CALSCALE:GREGORIAN
METHOD:PUBLISH
BEGIN:VEVENT
UID:87e6569a6f86ccdf5a3da1fb953c3b0d
CATEGORIES:Polar Conferences, Meetings and Events
CREATED:20190405T092141
SUMMARY:ALERT Geomaterials workshop
LOCATION:Aussois\, France
DESCRIPTION:<p>The Workshop consists of 3 Sessions: “<strong>Upscaling in Geotechnical 
 Engineering</strong>”, "<strong>The mechanics of root-soil systems: from mi
 croscopic to macroscopic approaches" and "<strong>Computational methods in 
 snow and avalanche release mechanics”</strong></strong></p><p>More informat
 ion by following the link:&nbsp;<a href="http://alertgeomaterials.eu/2019/0
 2/alert-geomaterials-workshop-2019/">http://alertgeomaterials.eu/2019/02/al
 ert-geomaterials-workshop-2019/</a></p><p><strong>Abstract submission deadl
 ine for sessions: April 30, 2019</strong>, by writing&nbsp;directly to the 
 coordinators Johan Gaume (SLF Davos, Switzerland,&nbsp;<span id="cloak95783
 ac538ba31ad2e0ad01063d1aab3">This email address is being protected from spa
 mbots. You need JavaScript enabled to view it.</span><script type='text/jav
 ascript'>
				document.getElementById('cloak95783ac538ba31ad2e0ad01063d1aab
 3').innerHTML = '';
				var prefix = '&#109;a' + 'i&#108;' + '&#116;o';
			
 	var path = 'hr' + 'ef' + '=';
				var addy95783ac538ba31ad2e0ad01063d1aab3
  = 'j&#111;h&#97;n.g&#97;&#117;m&#101;' + '&#64;';
				addy95783ac538ba31ad
 2e0ad01063d1aab3 = addy95783ac538ba31ad2e0ad01063d1aab3 + '&#101;pfl' + '&#
 46;' + 'ch';
				var addy_text95783ac538ba31ad2e0ad01063d1aab3 = 'j&#111;h&
 #97;n.g&#97;&#117;m&#101;' + '&#64;' + '&#101;pfl' + '&#46;' + 'ch';documen
 t.getElementById('cloak95783ac538ba31ad2e0ad01063d1aab3').innerHTML += '<a 
 ' + path + '\'' + prefix + ':' + addy95783ac538ba31ad2e0ad01063d1aab3 + '\'
 >'+addy_text95783ac538ba31ad2e0ad01063d1aab3+'<\/a>';
		</script>&nbsp;), P
 ascal Hagenmuller (CEN, Météo-France , France,&nbsp;<span id="cloak46482f0f
 447828021c8df04d8fe582c2">This email address is being protected from spambo
 ts. You need JavaScript enabled to view it.</span><script type='text/javasc
 ript'>
				document.getElementById('cloak46482f0f447828021c8df04d8fe582c2')
 .innerHTML = '';
				var prefix = '&#109;a' + 'i&#108;' + '&#116;o';
				va
 r path = 'hr' + 'ef' + '=';
				var addy46482f0f447828021c8df04d8fe582c2 = 
 'p&#97;sc&#97;l.h&#97;g&#101;nm&#117;ll&#101;r' + '&#64;';
				addy46482f0f
 447828021c8df04d8fe582c2 = addy46482f0f447828021c8df04d8fe582c2 + 'm&#101;t
 &#101;&#111;' + '&#46;' + 'fr';
				var addy_text46482f0f447828021c8df04d8f
 e582c2 = 'p&#97;sc&#97;l.h&#97;g&#101;nm&#117;ll&#101;r' + '&#64;' + 'm&#10
 1;t&#101;&#111;' + '&#46;' + 'fr';document.getElementById('cloak46482f0f447
 828021c8df04d8fe582c2').innerHTML += '<a ' + path + '\'' + prefix + ':' + a
 ddy46482f0f447828021c8df04d8fe582c2 + '\'>'+addy_text46482f0f447828021c8df0
 4d8fe582c2+'<\/a>';
		</script>&nbsp;), François Nicot (IRSTEA, France,&nbs
 p;<span id="cloake9e99939fdb9a417cac97e649d6bf249">This email address is be
 ing protected from spambots. You need JavaScript enabled to view it.</span>
 <script type='text/javascript'>
				document.getElementById('cloake9e99939f
 db9a417cac97e649d6bf249').innerHTML = '';
				var prefix = '&#109;a' + 'i&#
 108;' + '&#116;o';
				var path = 'hr' + 'ef' + '=';
				var addye9e99939fd
 b9a417cac97e649d6bf249 = 'fr&#97;nc&#111;&#105;s.n&#105;c&#111;t' + '&#64;'
 ;
				addye9e99939fdb9a417cac97e649d6bf249 = addye9e99939fdb9a417cac97e649d
 6bf249 + '&#105;rst&#101;&#97;' + '&#46;' + 'fr';
				var addy_texte9e99939
 fdb9a417cac97e649d6bf249 = 'fr&#97;nc&#111;&#105;s.n&#105;c&#111;t' + '&#64
 ;' + '&#105;rst&#101;&#97;' + '&#46;' + 'fr';document.getElementById('cloak
 e9e99939fdb9a417cac97e649d6bf249').innerHTML += '<a ' + path + '\'' + prefi
 x + ':' + addye9e99939fdb9a417cac97e649d6bf249 + '\'>'+addy_texte9e99939fdb
 9a417cac97e649d6bf249+'<\/a>';
		</script>&nbsp;), Guillaume Chambon (IRSTE
 A, France,&nbsp;<span id="cloakf737d94eba1efae57a81438c435b5c4c">This email
  address is being protected from spambots. You need JavaScript enabled to v
 iew it.</span><script type='text/javascript'>
				document.getElementById('
 cloakf737d94eba1efae57a81438c435b5c4c').innerHTML = '';
				var prefix = '&
 #109;a' + 'i&#108;' + '&#116;o';
				var path = 'hr' + 'ef' + '=';
				var 
 addyf737d94eba1efae57a81438c435b5c4c = 'g&#117;&#105;ll&#97;&#117;m&#101;.c
 h&#97;mb&#111;n' + '&#64;';
				addyf737d94eba1efae57a81438c435b5c4c = addy
 f737d94eba1efae57a81438c435b5c4c + '&#105;rst&#101;&#97;' + '&#46;' + 'fr';
 
				var addy_textf737d94eba1efae57a81438c435b5c4c = 'g&#117;&#105;ll&#97;&
 #117;m&#101;.ch&#97;mb&#111;n' + '&#64;' + '&#105;rst&#101;&#97;' + '&#46;'
  + 'fr';document.getElementById('cloakf737d94eba1efae57a81438c435b5c4c').in
 nerHTML += '<a ' + path + '\'' + prefix + ':' + addyf737d94eba1efae57a81438
 c435b5c4c + '\'>'+addy_textf737d94eba1efae57a81438c435b5c4c+'<\/a>';
		</sc
 ript>&nbsp;)).</p><p>A&nbsp;limited number of travel grants for young resea
 rchers will be available upon request.</p>
DTSTAMP:20260423T205248Z
DTSTART;TZID=UTC;VALUE=DATE:20190930
DTEND;TZID=UTC;VALUE=DATE:20191003
SEQUENCE:0
TRANSP:OPAQUE
END:VEVENT
END:VCALENDAR