BEGIN:VCALENDAR
VERSION:2.0
PRODID:-//jEvents 2.0 for Joomla//EN
CALSCALE:GREGORIAN
METHOD:PUBLISH
BEGIN:VEVENT
UID:4327740ef6353e19ceb6dcf54e0c4019
CATEGORIES:Field and Summer Schools
CREATED:20190405T085052
SUMMARY:Summer School "Investigating alpine permafrost dynamics from space to the field"
LOCATION:Bolzano\, Italy
DESCRIPTION:Permafrost is a key element of the terrestrial cryosphere that is strongly 
 affected by a warming climate. With widespread permafrost degradation likel
 y to occur in the next future, remote sensing is seeking to reveal the proc
 esses and causal connections governing this development, from the monitorin
 g of the permafrost state to the mapping of the impacts and potential natur
 al hazards.\nPermafrost landforms and surface features, such as rock glacie
 rs, can be identified by image classification techniques in a variety of re
 mote sensing products. Permafrost-related surface deformations can be detec
 ted by radar interferometry. However, field-based techniques, such as terre
 strial laser scanner, GPS and ground-based SAR, are essential for integrati
 ng and validating the remote sensing products.\nIn this context, the ALPSMO
 TION project (ALPine Slow slope MOvement moniTorIng and detectiON with remo
 te and proximal sensing), coordinated by EURAC Research and funded by the A
 utonomous Province of Bolzano, aims at improving the monitoring of permafro
 st deformation, in particular of rock glaciers, exploiting satellite-based 
 SAR data. Within the project this kind of data have been exploited at regio
 nal and local scale. In the latter case, an integration with in-situ measur
 ements acquired with different techniques, i.e. GPS, ground-based SAR and U
 AV, has been performed. Methodology and expertise developed have been also 
 tested to a landslide deformation case.\nThe purpose of the Summer School i
 s to offer an overview on modern remote- and field-based approaches current
 ly used to investigate the dynamics of alpine slopes affected by permafrost
 , with particular attention to the combined use of different types of data.
 \nThe school is mainly addressed to PhD students working on the topic, but 
 master degree students, post-docs and early career scientists are also welc
 omed.\n\nFor more information and to apply, please check the following link
 s: http://phd-dsta.unipv.it/wp-content/uploads/2019/03/Locandina_Summer_Sch
 ool_Bolzano-ValSenales_2019.pdf\n\nand here: <a class="moz-txt-link-freetex
 t" href="http://phd-dsta.unipv.it/wp-content/uploads/2019/03/Summer_School_
 Bolzano-ValSenales_2019.pdf">http://phd-dsta.unipv.it/wp-content/uploads/20
 19/03/Summer_School_Bolzano-ValSenales_2019.pdf</a>\n
X-ALT-DESC;FMTTYPE=text/html:<div class="page" title="Page 1"><div class="layoutArea"><div class="column
 "><p>Permafrost is a key element of the terrestrial cryosphere that is stro
 ngly affected by a warming climate. With widespread permafrost degradation 
 likely to occur in the next future, remote sensing is seeking to reveal the
  processes and causal connections governing this development, from the moni
 toring of the permafrost state to the mapping of the impacts and potential 
 natural hazards.</p><p>Permafrost landforms and surface features, such as r
 ock glaciers, can be identified by image classification techniques in a var
 iety of remote sensing products. Permafrost-related surface deformations ca
 n be detected by radar interferometry. However, field-based techniques, suc
 h as terrestrial laser scanner, GPS and ground-based SAR, are essential for
  integrating and validating the remote sensing products.</p><p>In this cont
 ext, the ALPSMOTION project (ALPine Slow slope MOvement moniTorIng and dete
 ctiON with remote and proximal sensing), coordinated by EURAC Research and 
 funded by the Autonomous Province of Bolzano, aims at improving the monitor
 ing of permafrost deformation, in particular of rock glaciers, exploiting s
 atellite-based SAR data. Within the project this kind of data have been exp
 loited at regional and local scale. In the latter case, an integration with
  in-situ measurements acquired with different techniques, i.e. GPS, ground-
 based SAR and UAV, has been performed. Methodology and expertise developed 
 have been also tested to a landslide deformation case.</p><p>The purpose of
  the Summer School is to offer an overview on modern remote- and field-base
 d approaches currently used to investigate the dynamics of alpine slopes af
 fected by permafrost, with particular attention to the combined use of diff
 erent types of data.<br />The school is mainly addressed to PhD students wo
 rking on the topic, but master degree students, post-docs and early career 
 scientists are also welcomed.</p></div></div></div><p><br />For more inform
 ation and to apply, please check the following links:&nbsp;<a class="moz-tx
 t-link-freetext" href="http://phd-dsta.unipv.it/wp-content/uploads/2019/03/
 Locandina_Summer_School_Bolzano-ValSenales_2019.pdf">http://phd-dsta.unipv.
 it/wp-content/uploads/2019/03/Locandina_Summer_School_Bolzano-ValSenales_20
 19.pdf</a><br /><br />and here:&nbsp;<a class="moz-txt-link-freetext" href=
 "http://phd-dsta.unipv.it/wp-content/uploads/2019/03/Summer_School_Bolzano-
 ValSenales_2019.pdf">http://phd-dsta.unipv.it/wp-content/uploads/2019/03/Su
 mmer_School_Bolzano-ValSenales_2019.pdf</a></p>
DTSTAMP:20260421T101649Z
DTSTART;TZID=UTC;VALUE=DATE:20190716
DTEND;TZID=UTC;VALUE=DATE:20190720
SEQUENCE:0
TRANSP:OPAQUE
END:VEVENT
END:VCALENDAR