BEGIN:VCALENDAR
VERSION:2.0
PRODID:-//jEvents 2.0 for Joomla//EN
CALSCALE:GREGORIAN
METHOD:PUBLISH
BEGIN:VEVENT
UID:c29cc313a0b2a1d755d043e6721a6da4
CATEGORIES:Polar Conferences, Meetings and Events
CREATED:20160804T062857
SUMMARY:PICES 3rd Early Career Scientist Conference
LOCATION:Korea
DESCRIPTION:<p>The PICES 3rd conference for early career researchers in climate change 
 and other anthropogenic forcing on marine environments.</p><p>In Korea, 30 
 May - 2 June 2017. See <a href="images/PICES-ICES_ECS3_May2017_Brochure_Web
 .pdf">attached</a>.</p><p> </p>
DTSTAMP:20260423T034123Z
DTSTART;TZID=UTC;VALUE=DATE:20170530
DTEND;TZID=UTC;VALUE=DATE:20170603
SEQUENCE:0
TRANSP:OPAQUE
END:VEVENT
END:VCALENDAR