BEGIN:VCALENDAR
VERSION:2.0
PRODID:-//jEvents 2.0 for Joomla//EN
CALSCALE:GREGORIAN
METHOD:PUBLISH
BEGIN:VEVENT
UID:c613e119165b7befff616ca9f4b2cb24
CATEGORIES:Polar Conferences, Meetings and Events
CREATED:20190311T114733
SUMMARY:Arctic Research Seminar Series
LOCATION:Fairbanks\, Alaska and Online
DESCRIPTION:The Arctic Research Consortium of the U.S. () Arctic Research Seminar Serie
 s invites leading Arctic researchers to share their latest findings and wha
 t they mean for decision-making. These seminars will be of interest to the 
 Arctic research community, federal agency officials, congressional staff, n
 on-governmental organizations, Arctic educators, and the public.\nThis semi
 nar, titled Diverse Responses and Emerging Risks for Marine Mammals in a Ra
 pidly Changing Arctic, will be presented by Donna Hauser, a Research Assist
 ant Professor at the International Arctic Research Center, University of Al
 aska Fairbanks. Donna studies marine ecology and has examined the habitat u
 se, distribution, and behavior of marine mammals for over 15 years.\nThe ra
 pid and pervasive loss of Arctic sea ice has several potential impacts to i
 ce-associated marine mammals. Declines in sea ice cover are also occurring 
 in concert with expanding anthropogenic activities that may have compoundin
 g effects on Arctic marine ecosystems. This talk will examine intersecting 
 issues of recent sea ice loss, Arctic marine mammal responses, and new anth
 ropogenic risks associated with an increasingly navigable Arctic. Dr. Hause
 r will provide several case studies to illustrate how changes in the timing
  and extent of sea ice cover affect distribution, migration timing, and for
 aging behavior of two Pacific Arctic populations of beluga whales. Results 
 suggest diverse and flexible responses by belugas in the face of rapidly ch
 anging sea ice conditions, which are in line with other emerging trends fro
 m the Pacific Arctic region. Second, she will discuss a recent vulnerabilit
 y assessment of 80 populations of seven Arctic marine mammal species to ves
 sels in the increasingly ice-free Northwest Passage and Northern Sea Route,
  which quantified the heterogeneity of risk across species, populations, an
 d regions. Finally, these results will be discussed in the context of ongoi
 ng conversations about the future resilience of Arctic marine mammals in ch
 anging sea ice ecosystems.  \n \nA live webinar is available to those unabl
 e to attend in person. Instructions for accessing the event online will be 
 sent to webinar registrants prior to the event.\nFor those of you on Twitte
 r, we invite you to join us in live-tweeting the event using the hashtag <a
  href="https://www.arcus.org/sites/all/modules/civicrm/extern/url.php?u=137
 70&amp;qid=2323825">#arcuswebinar</a>.\nFor more information and to registe
 r for the event, go to: \n
X-ALT-DESC;FMTTYPE=text/html:<p>The Arctic Research Consortium of the U.S. (<a href="https://www.arcus.o
 rg/sites/all/modules/civicrm/extern/url.php?u=13759&amp;qid=2323825">ARCUS<
 /a>) Arctic Research Seminar Series invites leading Arctic researchers to s
 hare their latest findings and what they mean for decision-making. These se
 minars will be of interest to the Arctic research community, federal agency
  officials, congressional staff,&nbsp;non-governmental organizations, Arcti
 c educators, and the public.</p><p>This seminar, titled&nbsp;<strong><em>Di
 verse Responses and Emerging Risks for Marine Mammals in a Rapidly Changing
  Arctic</em></strong>, will be presented by Donna Hauser, a Research Assist
 ant Professor at the International Arctic Research Center, University of Al
 aska Fairbanks. Donna studies marine ecology and has examined the habitat u
 se, distribution, and behavior of marine mammals for over 15 years.</p><p>T
 he rapid and pervasive loss of Arctic sea ice has several potential impacts
  to ice-associated marine mammals. Declines in sea ice cover are also occur
 ring in concert with expanding anthropogenic activities that may have compo
 unding effects on Arctic marine ecosystems. This talk will examine intersec
 ting issues of recent sea ice loss, Arctic marine mammal responses, and new
  anthropogenic risks associated with an increasingly navigable Arctic. Dr. 
 Hauser will provide several case studies to illustrate how changes in the t
 iming and extent of sea ice cover affect distribution, migration timing, an
 d foraging behavior of two Pacific Arctic populations of beluga whales. Res
 ults suggest diverse and flexible responses by belugas in the face of rapid
 ly changing sea ice conditions, which are in line with other emerging trend
 s from the Pacific Arctic region. Second, she will discuss a recent vulnera
 bility assessment of 80 populations of seven Arctic marine mammal species t
 o vessels in the increasingly ice-free Northwest Passage and Northern Sea R
 oute, which quantified the heterogeneity of risk across species, population
 s, and regions. Finally, these results will be discussed in the context of 
 ongoing conversations about the future resilience of Arctic marine mammals 
 in changing sea ice ecosystems. &nbsp;</p><p>&nbsp;</p><p>A live webinar is
  available to those unable to attend in person. Instructions for accessing 
 the event online will be sent to webinar registrants prior to the event.</p
 ><p>For those of you on Twitter, we invite you to join us in live-tweeting 
 the event using the hashtag&nbsp;<a href="https://www.arcus.org/sites/all/m
 odules/civicrm/extern/url.php?u=13770&amp;qid=2323825">#arcuswebinar</a>.</
 p><p>For more information and to register for the event, go to:&nbsp;<a hre
 f="https://www.arcus.org/sites/all/modules/civicrm/extern/url.php?u=13758&a
 mp;qid=2323825">ARCUS Arctic Research Seminar Series homepage</a></p>
CONTACT:Stacey Stoudt, Email: This email address is being protected from spambots. You need JavaScript enabled to view it.
				document.getElementById('cloak003c8b45ac9e95ac291a5e64929744dd').innerHTML = '';
				var prefix = '&#109;a' + 'i&#108;' + '&#116;o';
				var path = 'hr' + 'ef' + '=';
				var addy003c8b45ac9e95ac291a5e64929744dd = 'st&#97;c&#101;y' + '&#64;';
				addy003c8b45ac9e95ac291a5e64929744dd = addy003c8b45ac9e95ac291a5e64929744dd + '&#97;rc&#117;s' + '&#46;' + '&#111;rg';
				var addy_text003c8b45ac9e95ac291a5e64929744dd = 'st&#97;c&#101;y' + '&#64;' + '&#97;rc&#117;s' + '&#46;' + '&#111;rg';document.getElementById('cloak003c8b45ac9e95ac291a5e64929744dd').innerHTML += '<a ' + path + '\'' + prefix + ':' + addy003c8b45ac9e95ac291a5e64929744dd + '\'>'+addy_text003c8b45ac9e95ac291a5e64929744dd+'';
		
DTSTAMP:20260421T221440Z
DTSTART;TZID=UTC;VALUE=DATE:20190325
DTEND;TZID=UTC;VALUE=DATE:20190326
SEQUENCE:0
TRANSP:OPAQUE
END:VEVENT
END:VCALENDAR