BEGIN:VCALENDAR
VERSION:2.0
PRODID:-//jEvents 2.0 for Joomla//EN
CALSCALE:GREGORIAN
METHOD:PUBLISH
BEGIN:VEVENT
UID:e72728defba5a113b38126430485b1e7
CATEGORIES:Polar Conferences, Meetings and Events
CREATED:20190311T114418
SUMMARY:2019 Meeting of the Chilean Society of the Cryosphere (SOCHICRI)
LOCATION:La Serena\, Chile
DESCRIPTION:The 2019 meeting of the Chilean Society of the Cryosphere, (SOCHICRI, Socie
 dad Chilena de la Criósfera) is open to researchers, professionals and stud
 ents in Chile and abroad and it is organized by the Centre for Advanced Stu
 dies in Arid Zones (CEAZA).\nEarly-Bird Registration: 1 April\nClick there 
 for further information: http://sochicri.cl/upcoming_meetings.html\n
X-ALT-DESC;FMTTYPE=text/html:<p><span lang="EN-US">The 2019 meeting of the Chilean Society of the Cryosp
 here, (SOCHICRI, Sociedad Chilena de la Criósfera)</span>&nbsp;is open to r
 esearchers, professionals and students in Chile and abroad and it is organi
 zed by the Centre for Advanced Studies in Arid Zones (CEAZA).</p><p><strong
 >Early-Bird Registration: 1 April</strong></p><p>Click there for further in
 formation:&nbsp;<a href="http://sochicri.cl/upcoming_meetings.html">http://
 sochicri.cl/upcoming_meetings.html</a></p>
DTSTAMP:20260421T204141Z
DTSTART;TZID=UTC;VALUE=DATE:20190509
DTEND;TZID=UTC;VALUE=DATE:20190511
SEQUENCE:0
TRANSP:OPAQUE
END:VEVENT
END:VCALENDAR