BEGIN:VCALENDAR
VERSION:2.0
PRODID:-//jEvents 2.0 for Joomla//EN
CALSCALE:GREGORIAN
METHOD:PUBLISH
BEGIN:VEVENT
UID:836f7f62748d5f691e2a4be1fec8900d
CATEGORIES:Field and Summer Schools
CREATED:20190219T104328
SUMMARY:Summer School on Ice Sheets and Glaciers in the Climate System
LOCATION:Karthaus\, Italy
DESCRIPTION:The course provides a basic introduction to the dynamics of glaciers and ic
 e sheets with a focus on ice-climate interactions. Topics include: continuu
 m mechanics, sliding and hydraulics, numerical modelling, polar meteorology
 , ice-ocean interaction, ice cores, interaction of ice sheets with the soli
 d earth, etc. The course is meant for Ph.D. students that work on a glaciol
 ogy-related climate project. Some places are available for junior scientist
 s. Application Deadline: 1 May 2019 For further information, see Karthaus c
 ourse website: http://www.projects.science.uu.nl/iceclimate/karthaus/
X-ALT-DESC;FMTTYPE=text/html:<div>The course provides a basic introduction to the dynamics of glaciers a
 nd ice sheets with a focus on ice-climate interactions. Topics include: con
 tinuum mechanics, sliding and hydraulics, numerical modelling, polar meteor
 ology, ice-ocean interaction, ice cores, interaction of ice sheets with the
  solid earth, etc. The course is meant for Ph.D. students that work on a gl
 aciology-related climate project. Some places are available for junior scie
 ntists.</div><div>&nbsp;</div><div><strong>Application Deadline:&nbsp;1 May
  2019</strong></div><div>&nbsp;</div><div>For further information, see Kart
 haus course website:&nbsp;<a href="http://www.projects.science.uu.nl/icecli
 mate/karthaus/">http://www.projects.science.uu.nl/iceclimate/karthaus/</a><
 /div>
DTSTAMP:20260422T050235Z
DTSTART;TZID=UTC;VALUE=DATE:20190910
DTEND;TZID=UTC;VALUE=DATE:20190922
SEQUENCE:0
TRANSP:OPAQUE
END:VEVENT
END:VCALENDAR