BEGIN:VCALENDAR
VERSION:2.0
PRODID:-//jEvents 2.0 for Joomla//EN
CALSCALE:GREGORIAN
METHOD:PUBLISH
BEGIN:VEVENT
UID:f31518bfdd352ea57c7faec2ed214eff
CATEGORIES:Polar Conferences, Meetings and Events
CREATED:20190219T103503
SUMMARY:KOSMOS Conference "Navigating the Sustainability Transformation in the 21st Century"
LOCATION:Berlin\, Germany
DESCRIPTION:On the occasion of Alexander von Humboldt’s 250th birthday Humboldt-Univers
 ität zu Berlin is staging the KOSMOS Conference on "Navigating the Sustaina
 bility Transformation in the 21st Century". The Conference and Birthday Par
 ty will take place in Berlin from August, 28th to 30th, 2019. \nThe various
  responses of the cryosphere to anthropogenic forcing and its consequences 
 obviously are crucial to discuss in this framework. \nRegistration Deadline
 : 30 June\nFor further details, please visit the KOSMOS-Conference homepage
  at https://www.kosmos.hu-berlin.de (https://www.kosmos.hu-berlin.de/)\n
X-ALT-DESC;FMTTYPE=text/html:<p>On the occasion of Alexander von Humboldt’s 250th birthday Humboldt-Univ
 ersität zu Berlin is staging the KOSMOS Conference on "Navigating the Susta
 inability Transformation in the 21st Century". The Conference and Birthday 
 Party will take place in Berlin from August, 28th to 30th, 2019.&nbsp;</p><
 p>The various responses of the cryosphere to anthropogenic forcing and its 
 consequences obviously are crucial to discuss in this framework.&nbsp;</p><
 p><strong>Registration Deadline: 30 June</strong></p><p>For further details
 , please visit the KOSMOS-Conference homepage at&nbsp;<a href="https://www.
 kosmos.hu-berlin.de/">https://www.kosmos.hu-berlin.de</a></p>
DTSTAMP:20260423T145632Z
DTSTART;TZID=UTC;VALUE=DATE:20190828
DTEND;TZID=UTC;VALUE=DATE:20190831
SEQUENCE:0
TRANSP:OPAQUE
END:VEVENT
END:VCALENDAR