BEGIN:VCALENDAR
VERSION:2.0
PRODID:-//jEvents 2.0 for Joomla//EN
CALSCALE:GREGORIAN
METHOD:PUBLISH
BEGIN:VEVENT
UID:5ef1ec166ce3ce45e17171d58b9d6576
CATEGORIES:Polar Conferences, Meetings and Events
CREATED:20190214T094853
SUMMARY:4th Open Global Glacier Model (OGGM) Workshop
LOCATION:Grenoble\, France
DESCRIPTION:The OGGM workshop is an annual, informal meeting for developers, users, and
  future users of the Open Global Glacier Model (OGGM (http://docs.oggm.org/
 )) (www.oggm.org). The workshop is open to any interested scientist (within
  the limits of our capacities!).  Register before March 31st, 2019, if you 
 are interested in the model. For more information, visit our website: <a hr
 ef="https://oggm.org/2019/02/08/4th-workshop-announcement/">https://oggm.or
 g/2019/02/08/4th-workshop-announcement/</a>
X-ALT-DESC;FMTTYPE=text/html:<div>The OGGM workshop is an annual, informal meeting for developers, users
 , and future users of the&nbsp;Open Global Glacier Model (<a style="font-fa
 mily: inherit; font-size: 1rem;" href="http://docs.oggm.org/">OGGM</a>)&nbs
 p;(www.oggm.org). The workshop is open to any interested scientist (within 
 the limits of our capacities!).</div><div>&nbsp;&nbsp;</div><div>Register b
 efore <strong>March 31st, 2019</strong>, if you are&nbsp;interested in the 
 model.</div><div>&nbsp;</div><div>For more information, visit our website:&
 nbsp;<a href="https://oggm.org/2019/02/08/4th-workshop-announcement/">https
 ://oggm.org/2019/02/08/4th-workshop-announcement/</a></div><div></div>
CONTACT:Champollion Nicolas: This email address is being protected from spambots. You need JavaScript enabled to view it.
				document.getElementById('cloak808841e13fdd158497cd6631708da0ca').innerHTML = '';
				var prefix = '&#109;a' + 'i&#108;' + '&#116;o';
				var path = 'hr' + 'ef' + '=';
				var addy808841e13fdd158497cd6631708da0ca = 'n&#105;c&#111;l&#97;s.ch&#97;mp&#111;ll&#105;&#111;n' + '&#64;';
				addy808841e13fdd158497cd6631708da0ca = addy808841e13fdd158497cd6631708da0ca + '&#117;n&#105;-br&#101;m&#101;n' + '&#46;' + 'd&#101;';
				var addy_text808841e13fdd158497cd6631708da0ca = 'n&#105;c&#111;l&#97;s.ch&#97;mp&#111;ll&#105;&#111;n' + '&#64;' + '&#117;n&#105;-br&#101;m&#101;n' + '&#46;' + 'd&#101;';document.getElementById('cloak808841e13fdd158497cd6631708da0ca').innerHTML += '<a ' + path + '\'' + prefix + ':' + addy808841e13fdd158497cd6631708da0ca + '\'>'+addy_text808841e13fdd158497cd6631708da0ca+'';
		
DTSTAMP:20260425T114349Z
DTSTART;TZID=UTC;VALUE=DATE:20190617
DTEND;TZID=UTC;VALUE=DATE:20190622
SEQUENCE:0
TRANSP:OPAQUE
END:VEVENT
END:VCALENDAR