BEGIN:VCALENDAR
VERSION:2.0
PRODID:-//jEvents 2.0 for Joomla//EN
CALSCALE:GREGORIAN
METHOD:PUBLISH
BEGIN:VEVENT
UID:669997c7e5cbfc6af2037d0e6190150e
CATEGORIES:Polar Conferences, Meetings and Events
CREATED:20190205T112538
SUMMARY:Arctic Safety Conference 2019
LOCATION:Longyearbyen\, Spitsbergen
DESCRIPTION:The aim of the conference is to bring together experts and practitioners to
  share experiences, new findings and best practices for safety in the Arcti
 c. The Arctic Safety Centre (https://www.unis.no/resources/arctic-safety-ce
 ntre/) is a hub for sharing knowledge regarding personnel safety related to
  natural hazards (climate, topography, and wildlife) in the Arctic. Safe op
 erations in the Arctic require safety knowledge and skills in both planning
  and execution, increasingly important due to climate changes and an increa
 sed focus toward the high north within tourism, transportation and industry
 . We welcome both practical experiences and research contributions on Arcti
 c safety from industry, public sector and research institutions.\nPaper Sub
 mission Deadline: 30 March\nRegistration Deadline: 18 April\nFor more infor
 mation, see the conference <a href="https://www.unis.no/arctic-safety-confe
 rence-2019/" target="_blank" rel="noopener">website</a>. \n
X-ALT-DESC;FMTTYPE=text/html:<div class="article-intro"><p>The aim of the conference is to bring togethe
 r experts and practitioners to share experiences, new findings and best pra
 ctices for safety in the Arctic.&nbsp;<a style="font-family: inherit; font-
 size: 1rem;" href="https://www.unis.no/resources/arctic-safety-centre/" tar
 get="_blank" rel="noopener">The Arctic Safety Centre</a>&nbsp;is a hub for 
 sharing knowledge regarding personnel safety related to natural hazards (cl
 imate, topography, and wildlife) in the Arctic. Safe operations in the Arct
 ic require safety knowledge and skills in both planning and execution, incr
 easingly important due to climate changes and an increased focus toward the
  high north within tourism, transportation and industry.&nbsp;We welcome bo
 th practical experiences and research contributions on Arctic safety from i
 ndustry, public sector and research institutions.</p><p><strong>Paper Submi
 ssion Deadline: 30 March</strong></p><p><strong>Registration Deadline: 18 A
 pril</strong></p></div><div class="article-body"><p>For more information, s
 ee the conference&nbsp;<a href="https://www.unis.no/arctic-safety-conferenc
 e-2019/" target="_blank" rel="noopener">website</a>.&nbsp;</p></div>
DTSTAMP:20260421T160859Z
DTSTART;TZID=UTC;VALUE=DATE:20190513
DTEND;TZID=UTC;VALUE=DATE:20190516
SEQUENCE:0
TRANSP:OPAQUE
END:VEVENT
END:VCALENDAR