BEGIN:VCALENDAR
VERSION:2.0
PRODID:-//jEvents 2.0 for Joomla//EN
CALSCALE:GREGORIAN
METHOD:PUBLISH
BEGIN:VEVENT
UID:2f2fcd64399ffb34d4113611d57c3c78
CATEGORIES:Polar Conferences, Meetings and Events
CREATED:20190205T102832
SUMMARY:Arctic Circle Assembly 2019
LOCATION:Reykjavik\, Iceland
DESCRIPTION:<p>The annual Arctic Circle Assembly is the largest annual international ga
 thering on the Arctic, attended by more than 2000 participants from 60 coun
 tries. It is attended by heads of states and governments, ministers, member
 s of parliaments, officials, experts, scientists, entrepreneurs, business l
 eaders, indigenous representatives, environmentalists, students, activists 
 and others from the growing international community of partners and partici
 pants interested in the future of the Arctic.&nbsp;</p><p>For more informat
 ion, see:&nbsp;<a href="http://www.arcticcircle.org/">www.arcticcircle.org<
 /a></p>
DTSTAMP:20260422T142449Z
DTSTART;TZID=UTC;VALUE=DATE:20191010
DTEND;TZID=UTC;VALUE=DATE:20191014
SEQUENCE:0
TRANSP:OPAQUE
END:VEVENT
END:VCALENDAR