BEGIN:VCALENDAR
VERSION:2.0
PRODID:-//jEvents 2.0 for Joomla//EN
CALSCALE:GREGORIAN
METHOD:PUBLISH
BEGIN:VEVENT
UID:e4e487e58ea8d6e3da8bcb285a95e160
CATEGORIES:Field and Summer Schools
CREATED:20160722T063331
SUMMARY:25th session of ERCA
DESCRIPTION:the 25th session of ERCA (European Research Course on Atmospheres) that wil
 l take place in\nGrenoble (&amp; at the astronomical Observatory of Haute-P
 rovence)\nfrom\nJanuary 11th, 2017 to February 9th. The course is intended 
 to students\nenrolled in PhD programs, young scientists and engineers from\
 nuniversities and public/private research institutes wishing to\ncomplete t
 heir formation with a very complete research course related\nto Atmosphere,
  Climate and Climate change studies.\nThe 25th session of ERCA will special
 ly explore the theme "from 25 years ago to 25 years forward" and will be or
 ganized around the following topics:\n• atmospheric chemistry and atmospher
 ic composition changes\n• Earth climate system and the science of Climate c
 hange\n• Earth Science system - Impact and society\n• experimental techniqu
 es and research methodologies for the atmospheric sciences\n• hydrology and
  precipitation: water cycle in climate change\nIt includes practical course
 s (lidar and other techniques for atmospheric observations) held at the Obs
 ervatoire de Haute-Provence (Southern France) and in Grenoble, and relies o
 n a strong collective project centered on this years theme.\nA number of sp
 eakers have confirmed their participation: Gael Giraud (keynote talk), Yino
 n Rudich, Peter Brimblecombe, Andreas Richter, Eugene Clothiaux, Markus Qua
 nte, Carlo Barbante, Ralf Ebinghaus, Yoav Yair, Filippo Giorgi, Mak Flanner
 , Philippe Kekhut, Anne Monod and Francis Codron\nCan you please forward th
 is announcement to doctorate students at\nyour institute.\nA limited number
  of student assistantships will be available in particular\nfor students em
 erging countries\nDEADLINE FOR REGISTRATION: 18 September, 2016\nInformatio
 n &amp; registration at http://erca-school.eu\n
X-ALT-DESC;FMTTYPE=text/html:<p>the 25th session of ERCA (European Research Course on Atmospheres) that 
 will take place in<br />Grenoble (& at the astronomical Observatory of Haut
 e-Provence)</p><p>from<br />January 11th, 2017 to February 9th. The course 
 is intended to students<br />enrolled in PhD programs, young scientists and
  engineers from<br />universities and public/private research institutes wi
 shing to<br />complete their formation with a very complete research course
  related<br />to Atmosphere, Climate and Climate change studies.</p><p>The 
 25th session of ERCA will specially explore the theme "from 25 years ago to
  25 years forward" and will be organized around the following topics:</p><p
 >• atmospheric chemistry and atmospheric composition changes<br />• Earth c
 limate system and the science of Climate change<br />• Earth Science system
  - Impact and society<br />• experimental techniques and research methodolo
 gies for the atmospheric sciences<br />• hydrology and precipitation: water
  cycle in climate change</p><p>It includes practical courses (lidar and oth
 er techniques for atmospheric observations) held at the Observatoire de Hau
 te-Provence (Southern France) and in Grenoble, and relies on a strong colle
 ctive project centered on this years theme.</p><p>A number of speakers have
  confirmed their participation: Gael Giraud (keynote talk), Yinon Rudich, P
 eter Brimblecombe, Andreas Richter, Eugene Clothiaux, Markus Quante, Carlo 
 Barbante, Ralf Ebinghaus, Yoav Yair, Filippo Giorgi, Mak Flanner, Philippe 
 Kekhut, Anne Monod and Francis Codron</p><p>Can you please forward this ann
 ouncement to doctorate students at<br />your institute.</p><p>A limited num
 ber of student assistantships will be available in particular<br />for stud
 ents emerging countries</p><p><strong>DEADLINE FOR REGISTRATION: 18 Septemb
 er, 2016</strong></p><p><strong>Information & registration at <a href="http
 ://erca-school.eu">http://erca-school.eu</a></strong></p>
DTSTAMP:20260422T024558Z
DTSTART;TZID=UTC:20170111T080000
DTEND;TZID=UTC;VALUE=DATE:20170210
SEQUENCE:0
TRANSP:OPAQUE
END:VEVENT
END:VCALENDAR