BEGIN:VCALENDAR
VERSION:2.0
PRODID:-//jEvents 2.0 for Joomla//EN
CALSCALE:GREGORIAN
METHOD:PUBLISH
BEGIN:VEVENT
UID:47e22aad08b26f4339646fa6bcb648c0
CATEGORIES:Polar Conferences, Meetings and Events
CREATED:20190205T101405
SUMMARY:One Arctic - One Health Conference 2019
LOCATION:Oulu\, Finland
DESCRIPTION:One Arctic - One Health Conference 2019 is an integral part of Finland’s Ar
 ctic Council chairmanship program and is open to scientists, students, poli
 cy makers, businesses and all other interested stakeholders.\nThe science s
 ections will focus on all the multidisciplinary themes of One Health approa
 ch - health of environment, wildlife, domestic animals and humans - from so
 cial aspects to technological solutions.\nActive participation by indigenou
 s peoples is highly appreciated. One Health enhances participatory communit
 y-based approaches for identifying and responding to health and well-being 
 issues in communities which take into account traditional and local knowled
 ge.  \nhttps://www.oulu.fi/thule/onehealth\n
X-ALT-DESC;FMTTYPE=text/html:<p><strong>One Arctic - One Health Conference 2019</strong>&nbsp;is an inte
 gral part of Finland’s Arctic Council chairmanship program and is open to s
 cientists, students, policy makers, businesses and all other interested sta
 keholders.</p><p>The science sections will focus on all the multidisciplina
 ry themes of One Health approach - health of environment, wildlife, domesti
 c animals and humans - from social aspects to technological solutions.</p><
 p>Active participation by indigenous peoples is highly appreciated. One Hea
 lth enhances participatory community-based approaches for identifying and r
 esponding to health and well-being issues in communities which take into ac
 count traditional and local knowledge.<strong>&nbsp;&nbsp;</strong></p><p><
 a href="https://www.oulu.fi/thule/onehealth">https://www.oulu.fi/thule/oneh
 ealth</a></p>
DTSTAMP:20260422T022223Z
DTSTART;TZID=UTC;VALUE=DATE:20190207
DTEND;TZID=UTC;VALUE=DATE:20190210
SEQUENCE:0
TRANSP:OPAQUE
END:VEVENT
END:VCALENDAR