BEGIN:VCALENDAR
VERSION:2.0
PRODID:-//jEvents 2.0 for Joomla//EN
CALSCALE:GREGORIAN
METHOD:PUBLISH
BEGIN:VEVENT
UID:ec562f097f913a9cd8a1f30b570cd5f7
CATEGORIES:Polar Conferences, Meetings and Events
CREATED:20190205T101139
SUMMARY:Fulbright Arctic Research in Action: International Collaboration to Address Shared Challenges
LOCATION:Saalastinsali\, University of Oulu\, Finland
DESCRIPTION:Public symposium at the University of Oulu on February 28th at 13:00-16:30 
 with Fulbright Arctic Initiative 2018–19 Scholars from around the circumpol
 ar North discussing their innovative collaborative research focused on resi
 lience and sustainability.\n
X-ALT-DESC;FMTTYPE=text/html:<p>Public symposium at the University of Oulu on February 28th at 13:00-16:
 30 with Fulbright Arctic Initiative 2018–19 Scholars from around the circum
 polar North discussing their innovative collaborative research focused on r
 esilience and sustainability.</p>
DTSTAMP:20260421T231133Z
DTSTART;TZID=UTC;VALUE=DATE:20190228
DTEND;TZID=UTC;VALUE=DATE:20190301
SEQUENCE:0
TRANSP:OPAQUE
END:VEVENT
END:VCALENDAR