BEGIN:VCALENDAR
VERSION:2.0
PRODID:-//jEvents 2.0 for Joomla//EN
CALSCALE:GREGORIAN
METHOD:PUBLISH
BEGIN:VEVENT
UID:8d72a4b86a95d1403f8f10ed7232e2d3
CATEGORIES:Polar Conferences, Meetings and Events
CREATED:20190130T150100
SUMMARY:European Climate Research Alliance (ECRA) General Assembly
LOCATION:Brussels\, Belgium
DESCRIPTION:ECRA (the European Climate Research Alliance) is organising a major event o
 n 27-28 February 2019 in Brussels; our third ECRA General Assembly. The the
 me will be: Climate Change and Actionable Information We would like to shar
 e with you the Agenda.Highlights will be the keynote presentation of Deputy
  Director-General, Mr Patrick Child; a panel discussion with the Director o
 f the UNEP DTU Partnership, Mr John M. Christensen; Director in DG Climate 
 Action Ms Yvon Slingenberg; Dr Isabelle La Jeunesse; and of course represen
 tatives from the ECRA Network; and more than a dozen of scientific speakers
  on Day 2. This event is open to all and will provide an exciting forum for
  discussion on our present and future climate. We would value you participa
 tion.Please see the event website for more information. PDF of Agenda: http
 ://www.ecra-climate.eu/images/documents/GA2019/orga/ECRA_GA19-Invitation_Ag
 enda_v2019-01-28.pdfEvent website: <a href="http://www.ecra-climate.eu/acti
 vities-events/ecra-general-assemblies/182-ecra-ga19-2b">http://www.ecra-cli
 mate.eu/activities-events/ecra-general-assemblies/182-ecra-ga19-2b</a>Regis
 ter here for the event: http://ecra_ga19.eventbrite.com/
X-ALT-DESC;FMTTYPE=text/html:<div>ECRA (the European Climate Research Alliance) is organising a major ev
 ent on 27-28 February 2019 in Brussels; our third ECRA General Assembly. Th
 e theme will be:</div><div>&nbsp;</div><div>Climate Change and Actionable I
 nformation</div><div>&nbsp;</div><div>We would like to share with you the A
 genda.</div><div>Highlights will be the keynote presentation of Deputy Dire
 ctor-General, Mr Patrick Child; a panel discussion with the Director of the
  UNEP DTU Partnership, Mr John M. Christensen; Director in DG Climate Actio
 n Ms Yvon Slingenberg; Dr Isabelle La Jeunesse; and of course representativ
 es from the ECRA Network; and more than a dozen of scientific speakers on D
 ay 2.</div><div>&nbsp;</div><div>This event is open to all and will provide
  an exciting forum for discussion on our present and future climate. We wou
 ld value you participation.</div><div>Please see the event website for more
  information.</div><div>&nbsp;</div><div>PDF of Agenda:&nbsp;<a href="http:
 //www.ecra-climate.eu/images/documents/GA2019/orga/ECRA_GA19-Invitation_Age
 nda_v2019-01-28.pdf">http://www.ecra-climate.eu/images/documents/GA2019/org
 a/ECRA_GA19-Invitation_Agenda_v2019-01-28.pdf</a></div><div>Event website:&
 nbsp;<a href="http://www.ecra-climate.eu/activities-events/ecra-general-ass
 emblies/182-ecra-ga19-2b">http://www.ecra-climate.eu/activities-events/ecra
 -general-assemblies/182-ecra-ga19-2b</a></div><div>Register here for the ev
 ent:&nbsp;<a href="http://ecra_ga19.eventbrite.com/">http://ecra_ga19.event
 brite.com/</a></div>
DTSTAMP:20260421T230855Z
DTSTART;TZID=UTC;VALUE=DATE:20190227
DTEND;TZID=UTC;VALUE=DATE:20190301
SEQUENCE:0
TRANSP:OPAQUE
END:VEVENT
END:VCALENDAR