BEGIN:VCALENDAR
VERSION:2.0
PRODID:-//jEvents 2.0 for Joomla//EN
CALSCALE:GREGORIAN
METHOD:PUBLISH
BEGIN:VEVENT
UID:61d88cbc32c3c7e5bb970e6c1d7b1545
CATEGORIES:Polar Conferences, Meetings and Events
CREATED:20190123T100215
SUMMARY:5th annual Students in Polar and Alpine Research Conference (SPARC)
LOCATION:Brno\, Czech Republic
DESCRIPTION:The conference is especially organized for students or a young scientists (
 less than three years after the PhD defence) whowork within the fields of g
 eo- or biosciences in the polar regions or in the mountains. \n\nFor furthe
 r information about the conference, see https://sparc-brno.webnode.cz (http
 s://sparc-brno.webnode.cz/).\nDeadline for registration and abstract submis
 sion is 29 March. \n
X-ALT-DESC;FMTTYPE=text/html:<p>The conference is especially organized for students or a young scientist
 s (less than three years after the PhD defence) whowork within the fields o
 f geo- or biosciences in the polar regions or in the mountains.&nbsp;<br />
 <br />For further information about the conference, see&nbsp;<a href="https
 ://sparc-brno.webnode.cz/" target="_blank" rel="noopener">https://sparc-brn
 o.webnode.cz</a>.</p><p><strong>Deadline for registration and abstract subm
 ission is 29 March</strong>.&nbsp;</p>
CONTACT:This email address is being protected from spambots. You need JavaScript enabled to view it.
				document.getElementById('cloak5a56538f47ef76b41fe5c13ad161d1b7').innerHTML = '';
				var prefix = '&#109;a' + 'i&#108;' + '&#116;o';
				var path = 'hr' + 'ef' + '=';
				var addy5a56538f47ef76b41fe5c13ad161d1b7 = 'g&#101;&#111;p&#111;l&#97;rbrn&#111;' + '&#64;';
				addy5a56538f47ef76b41fe5c13ad161d1b7 = addy5a56538f47ef76b41fe5c13ad161d1b7 + 'gm&#97;&#105;l' + '&#46;' + 'c&#111;m';
				var addy_text5a56538f47ef76b41fe5c13ad161d1b7 = 'g&#101;&#111;p&#111;l&#97;rbrn&#111;' + '&#64;' + 'gm&#97;&#105;l' + '&#46;' + 'c&#111;m';document.getElementById('cloak5a56538f47ef76b41fe5c13ad161d1b7').innerHTML += '<a ' + path + '\'' + prefix + ':' + addy5a56538f47ef76b41fe5c13ad161d1b7 + '\'>'+addy_text5a56538f47ef76b41fe5c13ad161d1b7+'';
		; https://www.facebook.com/GeoPolar-Brno-667809679997442/
DTSTAMP:20260422T050205Z
DTSTART;TZID=UTC;VALUE=DATE:20190404
DTEND;TZID=UTC;VALUE=DATE:20190407
SEQUENCE:0
TRANSP:OPAQUE
END:VEVENT
END:VCALENDAR