BEGIN:VCALENDAR
VERSION:2.0
PRODID:-//jEvents 2.0 for Joomla//EN
CALSCALE:GREGORIAN
METHOD:PUBLISH
BEGIN:VEVENT
UID:186168fa1c7f5691154d165e71b21ec6
CATEGORIES:Polar Conferences, Meetings and Events
CREATED:20190114T145033
SUMMARY:British Branch International Glaciological Society Meeting
LOCATION:Newcastle upon Tyne\, UK
DESCRIPTION:The British Branch meeting is traditionally a welcoming, engaging and livel
 y venue to present on any aspect of glaciological research. \nFurther detai
 ls will be released later in the year unuder https://www.igsoc.org/about/br
 itishbranch/meetings/northumbria2019/, but if you have any questions in the
  meantime please don’t hesitate to contact us.\n
X-ALT-DESC;FMTTYPE=text/html:<p>The British Branch&nbsp;meeting is traditionally a welcoming, engaging a
 nd lively venue to present on any aspect of glaciological research.&nbsp;</
 p><p>Further details will be released later in the year unuder <a href="htt
 ps://www.igsoc.org/about/britishbranch/meetings/northumbria2019/">https://w
 ww.igsoc.org/about/britishbranch/meetings/northumbria2019/</a>, but if you 
 have any questions in the meantime please don’t hesitate to contact us.</p>
CONTACT:Dr Nick Rutter, Northumbria University, +44 (0)191 227 4735, This email address is being protected from spambots. You need JavaScript enabled to view it.
				document.getElementById('cloak4812f56c6b6fb07f41a8bd82a1e10574').innerHTML = '';
				var prefix = '&#109;a' + 'i&#108;' + '&#116;o';
				var path = 'hr' + 'ef' + '=';
				var addy4812f56c6b6fb07f41a8bd82a1e10574 = 'n&#105;ck.r&#117;tt&#101;r' + '&#64;';
				addy4812f56c6b6fb07f41a8bd82a1e10574 = addy4812f56c6b6fb07f41a8bd82a1e10574 + 'n&#111;rth&#117;mbr&#105;&#97;' + '&#46;' + '&#97;c' + '&#46;' + '&#117;k';
				var addy_text4812f56c6b6fb07f41a8bd82a1e10574 = 'n&#105;ck.r&#117;tt&#101;r' + '&#64;' + 'n&#111;rth&#117;mbr&#105;&#97;' + '&#46;' + '&#97;c' + '&#46;' + '&#117;k';document.getElementById('cloak4812f56c6b6fb07f41a8bd82a1e10574').innerHTML += '<a ' + path + '\'' + prefix + ':' + addy4812f56c6b6fb07f41a8bd82a1e10574 + '\'>'+addy_text4812f56c6b6fb07f41a8bd82a1e10574+'';
		
DTSTAMP:20260422T221431Z
DTSTART;TZID=UTC;VALUE=DATE:20190904
DTEND;TZID=UTC;VALUE=DATE:20190906
SEQUENCE:0
TRANSP:OPAQUE
END:VEVENT
END:VCALENDAR