BEGIN:VCALENDAR
VERSION:2.0
PRODID:-//jEvents 2.0 for Joomla//EN
CALSCALE:GREGORIAN
METHOD:PUBLISH
BEGIN:VEVENT
UID:4c837cea3316099e390a8204bcc1562d
CATEGORIES:APECS Events
CREATED:20190107T132528
SUMMARY:ARCTIS2019: Interdisciplinary Field Course in the Russian Arctic
LOCATION:Kirovsk\, Apatity\, Murmanks\, Murmanks region\, Russia
DESCRIPTION:ARCTIS main goal is to facilitate bilateral and interdisciplinary cooperati
 on of early career scientists from the United Kingdom and Russia on Arctic 
 natural and social studies. Course will be designed to create the fruitful 
 and interactive platform to share ideas, exchange knowledge and gain new sk
 ills and experiences mainly by developing collaborative science project con
 cepts as the result of the meeting.\nARCTIS will cover main domains of disc
 iplines: Atmosphere, Cryosphere, Terrestrial, Marine and Social &amp; Human
 ities.\nARCTIS programme is designed to cover practical and theoretical blo
 cks accompanied with the field workshops, lectures, plenary talks, presenta
 tions and project development sessions.\n
X-ALT-DESC;FMTTYPE=text/html:<p>ARCTIS main goal is to facilitate bilateral and interdisciplinary cooper
 ation of early career scientists from the United Kingdom and Russia on Arct
 ic natural and social studies. Course will be designed to create the fruitf
 ul and interactive platform to share ideas, exchange knowledge and gain new
  skills and experiences mainly by developing collaborative science project 
 concepts as the result of the meeting.</p><p>ARCTIS will cover main domains
  of disciplines: Atmosphere, Cryosphere, Terrestrial, Marine and Social &am
 p; Humanities.</p><p>ARCTIS programme is designed to cover practical and th
 eoretical blocks accompanied with the field workshops, lectures, plenary ta
 lks, presentations and project development sessions.</p>
CONTACT:This email address is being protected from spambots. You need JavaScript enabled to view it.
				document.getElementById('cloakc39d0576eeeeb822a42fcb6b6b3e1541').innerHTML = '';
				var prefix = '&#109;a' + 'i&#108;' + '&#116;o';
				var path = 'hr' + 'ef' + '=';
				var addyc39d0576eeeeb822a42fcb6b6b3e1541 = 'f&#105;&#101;ldc&#111;&#117;rs&#101;.&#97;rct&#105;s' + '&#64;';
				addyc39d0576eeeeb822a42fcb6b6b3e1541 = addyc39d0576eeeeb822a42fcb6b6b3e1541 + 'm&#97;&#105;l' + '&#46;' + 'r&#117;';
				var addy_textc39d0576eeeeb822a42fcb6b6b3e1541 = 'f&#105;&#101;ldc&#111;&#117;rs&#101;.&#97;rct&#105;s' + '&#64;' + 'm&#97;&#105;l' + '&#46;' + 'r&#117;';document.getElementById('cloakc39d0576eeeeb822a42fcb6b6b3e1541').innerHTML += '<a ' + path + '\'' + prefix + ':' + addyc39d0576eeeeb822a42fcb6b6b3e1541 + '\'>'+addy_textc39d0576eeeeb822a42fcb6b6b3e1541+'';
		 and This email address is being protected from spambots. You need JavaScript enabled to view it.
				document.getElementById('cloak8f6aaa044434c26a68b3e750112d8e80').innerHTML = '';
				var prefix = '&#109;a' + 'i&#108;' + '&#116;o';
				var path = 'hr' + 'ef' + '=';
				var addy8f6aaa044434c26a68b3e750112d8e80 = 'pr&#101;s&#105;d&#101;nt' + '&#64;';
				addy8f6aaa044434c26a68b3e750112d8e80 = addy8f6aaa044434c26a68b3e750112d8e80 + 'p&#111;l&#97;rn&#101;tw&#111;rk' + '&#46;' + '&#111;rg';
				var addy_text8f6aaa044434c26a68b3e750112d8e80 = 'pr&#101;s&#105;d&#101;nt' + '&#64;' + 'p&#111;l&#97;rn&#101;tw&#111;rk' + '&#46;' + '&#111;rg';document.getElementById('cloak8f6aaa044434c26a68b3e750112d8e80').innerHTML += '<a ' + path + '\'' + prefix + ':' + addy8f6aaa044434c26a68b3e750112d8e80 + '\'>'+addy_text8f6aaa044434c26a68b3e750112d8e80+'';
		
X-EXTRAINFO:Website: http://polarnetwork.org/2018/10/ukpn-and-apecs-russia-present-arct
 is2019/
DTSTAMP:20260422T011550Z
DTSTART;TZID=UTC:20190218T080000
DTEND;TZID=UTC:20190222T170000
SEQUENCE:0
TRANSP:OPAQUE
END:VEVENT
END:VCALENDAR