BEGIN:VCALENDAR
VERSION:2.0
PRODID:-//jEvents 2.0 for Joomla//EN
CALSCALE:GREGORIAN
METHOD:PUBLISH
BEGIN:VEVENT
UID:d05ac762074d595c14e14448b7fdf65b
CATEGORIES:Polar Conferences, Meetings and Events
CREATED:20190104T205034
SUMMARY:International Mountain Conference 2019
LOCATION:Innsbruck\, Austria
DESCRIPTION:<p>The&nbsp;International Mountain Conference will host a number of worksho
 p sessions concerning the mountain cryosphere/hydrosphere ()</p><p>Workshop
  2.3.A:<strong>&nbsp;Mountain socio-hydrology in a changing climate</strong
 ></p><p>Workshop 2.3.B:<strong>&nbsp;Consequences of climate change for the
  cryosphere</strong></p><p>Workshop 2.3.D:<strong>&nbsp;Distal impacts of h
 ydrospheric and cryospheric changes in Mountain regions</strong></p><p>Work
 shop 2.3.F:<strong>&nbsp;The contribution of Earth Observation in Monitorin
 g, forecasting and understanding cryosphere and hydrosphere&nbsp;</strong>&
 nbsp;</p><p>The conference will use innovative workshop-based formats to pr
 omote deeper discussion and knowledge exchange than standard conference for
 mats offer, and we hope to not only establish a current state of the art kn
 owledge, but also identify key future research needs and foster ongoing col
 laborative research through this approach. This is a timely opportunity, an
 d suitable setting, to develop valuable review papers and identify remainin
 g gaps in the forthcoming IPCC AR6 Cross-Chapter-Paper on Mountains.</p><p>
 <strong>Early-bird Registration Deadline: 15 April</strong></p><p>For furth
 er information, visit the webpage:&nbsp;<a href="https://www.uibk.ac.at/con
 gress/imc2019">https://www.uibk.ac.at/congress/imc2019</a></p>
DTSTAMP:20260424T150058Z
DTSTART;TZID=UTC;VALUE=DATE:20190908
DTEND;TZID=UTC;VALUE=DATE:20190913
SEQUENCE:0
TRANSP:OPAQUE
END:VEVENT
END:VCALENDAR