BEGIN:VCALENDAR
VERSION:2.0
PRODID:-//jEvents 2.0 for Joomla//EN
CALSCALE:GREGORIAN
METHOD:PUBLISH
BEGIN:VEVENT
UID:55d1f11f51963d17f11517f194b9cde7
CATEGORIES:Polar Conferences, Meetings and Events
CREATED:20181218T113456
SUMMARY:2019 Toolik All Scientists Meeting
LOCATION:Portland\, Oregon\, USA
DESCRIPTION:Organizers invite registration for the 2019 Toolik All Scientists Meeting. 
 This open meeting will convene 1-2 February 2019 at the University Place Ho
 tel and Conference Center, Portland State University in Portland, Oregon.\n
 The goal of the meeting is to share scientific findings, promote collaborat
 ion, and gather future science support requirements for services and facili
 ties needed among Toolik researchers and others working in the Arctic.\nThe
  first day of the meeting will be devoted to scientific talks and posters. 
 All attendees are invited to present a research poster during the poster se
 ssion. The second day will include a discussion of ideas for future facilit
 ies and research support.\nLimited funding is available to support travel t
 o the meeting for those who do not have travel funding. Supported participa
 nts must present a research poster. A request for travel support must be in
 dicated in the registration form.\nRegistration deadline: 31 January 2019\n
 For more information and to register, go to:\n\n\n
X-ALT-DESC;FMTTYPE=text/html:<p>Organizers invite registration for the 2019 Toolik All Scientists Meetin
 g. This open meeting will convene 1-2 February 2019 at the University Place
  Hotel and Conference Center, Portland State University in Portland, Oregon
 .</p><p>The goal of the meeting is to share scientific findings, promote co
 llaboration, and gather future science support requirements for services an
 d facilities needed among Toolik researchers and others working in the Arct
 ic.</p><p>The first day of the meeting will be devoted to scientific talks 
 and posters. All attendees are invited to present a research poster during 
 the poster session. The second day will include a discussion of ideas for f
 uture facilities and research support.</p><p>Limited funding is available t
 o support travel to the meeting for those who do not have travel funding. S
 upported participants must present a research poster. A request for travel 
 support must be indicated in the registration form.</p><p><strong>Registrat
 ion deadline:</strong>&nbsp;31 January 2019</p><p>For more information and 
 to register, go to:<br /><a href="https://www.arcus.org/sites/all/modules/c
 ivicrm/extern/url.php?u=12745&amp;qid=2083527">Meeting homepage</a></p><p><
 /p>
CONTACT:Skye Greer Email: This email address is being protected from spambots. You need JavaScript enabled to view it.
				document.getElementById('cloak71566411569da92a6e18b863bff8d42e').innerHTML = '';
				var prefix = '&#109;a' + 'i&#108;' + '&#116;o';
				var path = 'hr' + 'ef' + '=';
				var addy71566411569da92a6e18b863bff8d42e = 'smgr&#101;&#101;r' + '&#64;';
				addy71566411569da92a6e18b863bff8d42e = addy71566411569da92a6e18b863bff8d42e + '&#97;l&#97;sk&#97;' + '&#46;' + '&#101;d&#117;';
				var addy_text71566411569da92a6e18b863bff8d42e = 'smgr&#101;&#101;r' + '&#64;' + '&#97;l&#97;sk&#97;' + '&#46;' + '&#101;d&#117;';document.getElementById('cloak71566411569da92a6e18b863bff8d42e').innerHTML += '<a ' + path + '\'' + prefix + ':' + addy71566411569da92a6e18b863bff8d42e + '\'>'+addy_text71566411569da92a6e18b863bff8d42e+'';
		; Phone: 907-474-7641
DTSTAMP:20260422T022340Z
DTSTART;TZID=UTC;VALUE=DATE:20190201
DTEND;TZID=UTC;VALUE=DATE:20190203
SEQUENCE:0
TRANSP:OPAQUE
END:VEVENT
END:VCALENDAR