BEGIN:VCALENDAR
VERSION:2.0
PRODID:-//jEvents 2.0 for Joomla//EN
CALSCALE:GREGORIAN
METHOD:PUBLISH
BEGIN:VEVENT
UID:2deed2e48b620d1b75559e767ce1345b
CATEGORIES:Polar Conferences, Meetings and Events
CREATED:20181211T143643
SUMMARY:Workshop on “Glacial Isostatic Adjustment, Ice Sheets, and Sea-level Change – Observations, Analysis, and Modelling” 
LOCATION:Canadian Museum of Nature\, Ottawa\, Canada
DESCRIPTION:Glacial Isostatic Adjustment (GIA) is the response of the solid Earth to pa
 st and present-day changes to glaciers and ice sheets.  It generates crusta
 l displacements, sea-level changes, and changes to the Earth’s gravitationa
 l field. Recent developments in GIA modelling include increased considerati
 on of lateral variations in Earth structure (i.e. three-dimensional Earth m
 odels) and coupled ice-sheet/Earth modelling.  Complementing these recent d
 evelopments are ongoing investigations into paleo ice sheet extent, Earth s
 tructure, and paleo sea-level investigations.  Geodetic measurements of cru
 stal motion and gravitational change include the GIA viscoelastic response 
 to past changes, as well as the Earth’s elastic response to present-day ice
  mass changes.  \nThe outstanding source of uncertainty in projecting futur
 e global sea-level rise is the dynamical behavior of marine-based portions 
 of the Antarctic ice sheet.  These ice sheets, grounded below present-day s
 ea-level on bedrock that slopes down towards the interior, may be subject t
 o a Marine Ice Sheet Instability (MISI) featuring a positive feedback cycle
  of thinning and grounding line retreat. Where glaciers and ice sheets are 
 undergoing rapid change, the solid Earth response, which is comprised of bo
 th an elastic response to present-day change and viscoelastic response to p
 ast ice mass change, can affect the bedrock elevation relative to local sea
 -level and affect glacier flow dynamics, including grounding line migration
 , and thus affect global sea levels.  The structure and rheology of the int
 erior of the Earth determines the rapidity of the Earth’s response and the 
 strength of the potential interaction between vertical crustal displacement
  and ice sheet dynamics.\nRegistration Deadline: Registration will be first
  come, first served, and will end when capacity is reached, or on April 30,
  2019: \nAbstract Deadline: April 30: <a href="https://docs.google.com/form
 s/d/e/1FAIpQLSe4QTDhgK4bvLlL2ZI9KxOxNgUzT6vsHeEYfZgu_rSl3RzAFQ/viewform?vc=
 0&amp;c=0&amp;w=1">GIA Workshop Abstract Submission</a>\n
X-ALT-DESC;FMTTYPE=text/html:<p>Glacial Isostatic Adjustment (GIA) is the response of the solid Earth to
  past and present-day changes to glaciers and ice sheets.&nbsp;&nbsp;It gen
 erates crustal displacements, sea-level changes, and changes to the Earth’s
  gravitational field. Recent developments in GIA modelling include increase
 d consideration of lateral variations in Earth structure (i.e. three-dimens
 ional Earth models) and coupled ice-sheet/Earth modelling.&nbsp;&nbsp;Compl
 ementing these recent developments are ongoing investigations into paleo ic
 e sheet extent, Earth structure, and paleo sea-level investigations.&nbsp;&
 nbsp;Geodetic measurements of crustal motion and gravitational change inclu
 de the GIA viscoelastic response to past changes, as well as the Earth’s el
 astic response to present-day ice mass changes.&nbsp;&nbsp;</p><p>The outst
 anding source of uncertainty in projecting future global sea-level rise is 
 the dynamical behavior of marine-based portions of the Antarctic ice sheet.
 &nbsp;&nbsp;These ice sheets, grounded below present-day sea-level on bedro
 ck that slopes down towards the interior, may be subject to a Marine Ice Sh
 eet Instability (MISI) featuring a positive feedback cycle of thinning and 
 grounding line retreat.&nbsp;Where glaciers and ice sheets are undergoing r
 apid change, the solid Earth response, which is comprised of both an elasti
 c response to present-day change and viscoelastic response to past ice mass
  change, can affect the bedrock elevation relative to local sea-level and a
 ffect glacier flow dynamics, including grounding line migration, and thus a
 ffect global sea levels.&nbsp;&nbsp;The structure and rheology of the inter
 ior of the Earth determines the rapidity of the Earth’s response and the st
 rength of the potential interaction between vertical crustal displacement a
 nd ice sheet dynamics.</p><p><strong>Registration Deadline</strong>:&nbsp;R
 egistration will be first come, first served, and will end when capacity is
  reached, or on<strong> April 30, 2019</strong>:&nbsp;<a href="https://docs
 .google.com/forms/d/e/1FAIpQLScBODzDNIjDKtqlcjjINy1KhFd9iMQ715G9DC3N4aW18Ml
 rwQ/viewform?vc=0&amp;c=0&amp;w=1">GIA Workshop Registration</a></p><p><str
 ong>Abstract Deadline: April 30</strong>:&nbsp;<a href="https://docs.google
 .com/forms/d/e/1FAIpQLSe4QTDhgK4bvLlL2ZI9KxOxNgUzT6vsHeEYfZgu_rSl3RzAFQ/vie
 wform?vc=0&amp;c=0&amp;w=1">GIA Workshop Abstract Submission</a></p>
DTSTAMP:20260422T050026Z
DTSTART;TZID=UTC;VALUE=DATE:20190924
DTEND;TZID=UTC;VALUE=DATE:20190927
SEQUENCE:0
TRANSP:OPAQUE
END:VEVENT
END:VCALENDAR