BEGIN:VCALENDAR
VERSION:2.0
PRODID:-//jEvents 2.0 for Joomla//EN
CALSCALE:GREGORIAN
METHOD:PUBLISH
BEGIN:VEVENT
UID:ee19ff660317f385931a3283420d1535
CATEGORIES:Polar Conferences, Meetings and Events
CREATED:20160628T110646
SUMMARY:International Symposium on Polar Environmental Change and Public Governance
LOCATION:Wuhan\, China
DESCRIPTION:Wuhan University and Beijing Normal University would like to invite you to 
 Wuhan, China from Oct. 21 to Oct. 22, 2016 for the International Symposium 
 on Polar Environmental Change and Public Governance. The symposium will foc
 us on the latest result and development in theory, technology and applicati
 on of polar environmental change and public governance, promoting the parti
 cipants to exchange their innovative thoughts.\nWebsite: http://2016.chinar
 e.cn/.\n
X-ALT-DESC;FMTTYPE=text/html:<p>Wuhan University and Beijing Normal University would like to invite you 
 to Wuhan, China from Oct. 21 to Oct. 22, 2016 for the International Symposi
 um on Polar Environmental Change and Public Governance. The symposium will 
 focus on the latest result and development in theory, technology and applic
 ation of polar environmental change and public governance, promoting the pa
 rticipants to exchange their innovative thoughts.</p><p>Website: http://201
 6.chinare.cn/.</p>
X-EXTRAINFO:Website: http://2016.chinare.cn/
DTSTAMP:20260422T210005Z
DTSTART;TZID=UTC;VALUE=DATE:20161021
DTEND;TZID=UTC;VALUE=DATE:20161023
SEQUENCE:0
TRANSP:OPAQUE
END:VEVENT
END:VCALENDAR