BEGIN:VCALENDAR
VERSION:2.0
PRODID:-//jEvents 2.0 for Joomla//EN
CALSCALE:GREGORIAN
METHOD:PUBLISH
BEGIN:VEVENT
UID:952f023ae79b9a20a20bee744052ea9d
CATEGORIES:Polar Conferences, Meetings and Events
CREATED:20181119T153502
SUMMARY:49th Arctic Workshop
LOCATION:Stockholm\, Sweden
DESCRIPTION:The Arctic Workshop is an annual meeting dedicated to all aspects of high-l
 atitude Earth science and environmental research. Running since 1970, the w
 orkshop is an informal meeting space for scientists at all career stages wo
 rking in fields encompassing high- latitude climate, hydrology, glaciology,
  oceanography, ecology, archaeology, solid Earth processes and hazards in p
 ast, present and future environments.\nFor more information, visit: http://
 aw19.geo.su.se/\n
X-ALT-DESC;FMTTYPE=text/html:<p>The Arctic Workshop is an annual meeting dedicated to all aspects of hig
 h-latitude Earth science and environmental research. Running since 1970, th
 e workshop is an informal meeting space for scientists at all career stages
  working in fields encompassing high- latitude climate, hydrology, glaciolo
 gy, oceanography, ecology, archaeology, solid Earth processes and hazards i
 n past, present and future environments.</p><p>For more information, visit:
  <a href="http://aw19.geo.su.se/">http://aw19.geo.su.se/</a></p>
CONTACT:Sarah Greenwood: This email address is being protected from spambots. You need JavaScript enabled to view it.
				document.getElementById('cloak297fc621f0c8c3fa6d9794c85ec07eb5').innerHTML = '';
				var prefix = '&#109;a' + 'i&#108;' + '&#116;o';
				var path = 'hr' + 'ef' + '=';
				var addy297fc621f0c8c3fa6d9794c85ec07eb5 = 's&#97;r&#97;h.gr&#101;&#101;nw&#111;&#111;d' + '&#64;';
				addy297fc621f0c8c3fa6d9794c85ec07eb5 = addy297fc621f0c8c3fa6d9794c85ec07eb5 + 'g&#101;&#111;' + '&#46;' + 's&#117;' + '&#46;' + 's&#101;';
				var addy_text297fc621f0c8c3fa6d9794c85ec07eb5 = 's&#97;r&#97;h.gr&#101;&#101;nw&#111;&#111;d' + '&#64;' + 'g&#101;&#111;' + '&#46;' + 's&#117;' + '&#46;' + 's&#101;';document.getElementById('cloak297fc621f0c8c3fa6d9794c85ec07eb5').innerHTML += '<a ' + path + '\'' + prefix + ':' + addy297fc621f0c8c3fa6d9794c85ec07eb5 + '\'>'+addy_text297fc621f0c8c3fa6d9794c85ec07eb5+'';
		
DTSTAMP:20260422T044630Z
DTSTART;TZID=UTC;VALUE=DATE:20190404
DTEND;TZID=UTC;VALUE=DATE:20190406
SEQUENCE:0
TRANSP:OPAQUE
END:VEVENT
END:VCALENDAR