BEGIN:VCALENDAR
VERSION:2.0
PRODID:-//jEvents 2.0 for Joomla//EN
CALSCALE:GREGORIAN
METHOD:PUBLISH
BEGIN:VEVENT
UID:091d75ddd3dc2e6b89550c19f389691f
CATEGORIES:Polar Conferences, Meetings and Events
CREATED:20181116T105635
SUMMARY:33rd Forum for Research into Ice Shelf Processes (FRISP)
LOCATION:Oxford\, UK
DESCRIPTION:FRISP is an annual meeting to share research related to ice shelves, and th
 eir interactions with the ice sheet, ocean, and atmosphere. It is an Expert
  Group of the Scientific Committee on Antarctic Research (SCAR) (https://ww
 w.scar.org/), and has organised <a href="https://folk.uib.no/ngfso/FRISP/" 
 target="_blank" rel="noopener">regular meetings in Europe since 1984</a>. F
 RISP is an appropriate meeting to present work in progress and discuss emer
 ging research ideas, and is well-suited to early career researchers as well
  as senior scientists. This meeting is intended for those already involved 
 in the ITGC project; however, FRISP-only attendees are welcome to stay for 
 the Wednesday afternoon sessions. Similarly, ITGC-only attendees who arrive
  early may attend the Wednesday morning sessions of FRISP. Since there will
  be a number of participants attending both conferences, we encourage you t
 o register early and secure your spot.\nAbstract Submission Deadline: 30 Ju
 neRegistration Deadline: 31 May For further information, visit the FRISP 20
 19 website: https://www.bas.ac.uk/event/frisp-2019/ 
X-ALT-DESC;FMTTYPE=text/html:<p>FRISP is an annual meeting to share research related to ice shelves, and
  their interactions with the ice sheet, ocean, and atmosphere. It is an Exp
 ert Group of the&nbsp;<a href="https://www.scar.org/" target="_blank" rel="
 noopener">Scientific Committee on Antarctic Research (SCAR)</a>, and has or
 ganised&nbsp;<a href="https://folk.uib.no/ngfso/FRISP/" target="_blank" rel
 ="noopener">regular meetings in Europe since 1984</a>. FRISP is an appropri
 ate meeting to present work in progress and discuss emerging research ideas
 , and is well-suited to early career researchers as well as senior scientis
 ts.&nbsp;This meeting is intended for those already involved in the ITGC pr
 oject; however, FRISP-only attendees are welcome to stay for the Wednesday 
 afternoon sessions. Similarly, ITGC-only attendees who arrive early may att
 end the Wednesday morning sessions of FRISP. Since there will be a number o
 f participants attending both conferences, we encourage you to register ear
 ly and secure your spot.</p><div><strong>Abstract Submission Deadline: 30 J
 une</strong></div><div><strong>Registration Deadline: 31 May</strong></div>
 <div>&nbsp;</div><div>For further information, visit the FRISP 2019 website
 :&nbsp;<a href="https://www.bas.ac.uk/event/frisp-2019/">https://www.bas.ac
 .uk/event/frisp-2019/</a>&nbsp;</div>
CONTACT:This email address is being protected from spambots. You need JavaScript enabled to view it.
				document.getElementById('cloak645ad8577ac3cec7d41145353477702e').innerHTML = '';
				var prefix = '&#109;a' + 'i&#108;' + '&#116;o';
				var path = 'hr' + 'ef' + '=';
				var addy645ad8577ac3cec7d41145353477702e = 'fr&#105;sp2019' + '&#64;';
				addy645ad8577ac3cec7d41145353477702e = addy645ad8577ac3cec7d41145353477702e + 'b&#97;s' + '&#46;' + '&#97;c' + '&#46;' + '&#117;k';
				var addy_text645ad8577ac3cec7d41145353477702e = 'fr&#105;sp2019' + '&#64;' + 'b&#97;s' + '&#46;' + '&#97;c' + '&#46;' + '&#117;k';document.getElementById('cloak645ad8577ac3cec7d41145353477702e').innerHTML += '<a ' + path + '\'' + prefix + ':' + addy645ad8577ac3cec7d41145353477702e + '\'>'+addy_text645ad8577ac3cec7d41145353477702e+'';
		
DTSTAMP:20260421T224406Z
DTSTART;TZID=UTC;VALUE=DATE:20190915
DTEND;TZID=UTC;VALUE=DATE:20190919
SEQUENCE:0
TRANSP:OPAQUE
END:VEVENT
END:VCALENDAR