BEGIN:VCALENDAR
VERSION:2.0
PRODID:-//jEvents 2.0 for Joomla//EN
CALSCALE:GREGORIAN
METHOD:PUBLISH
BEGIN:VEVENT
UID:f55f16b326f7b9b850f4b5bd3b5cfd3f
CATEGORIES:Field and Summer Schools
CREATED:20160624T195924
SUMMARY:Chronology of Marine Organisms Summer School
LOCATION:Island of Spiekeroog\, Germany
DESCRIPTION:The HVI PolarTime kindly invites you to the\nCHRONOBIOLOGY OF MARINE ORGANI
 SMS SUMMER SCHOOL\nWith an emphasis on high latitude pelagic zooplankton\nI
 sland of Spiekeroog\n18 – 24 September 2016\nABOUT THE EVENT\nThe “Chronobi
 ology of Marine Organisms Summer School” aims to bring together young inter
 national researchers who are interested in the phenomenon of biological tim
 ing with special focus on the polar and marine environment. It will give in
 sight in general concepts of chronobiology, biological timing in model orga
 nisms and in the marine environment, orientation mechanisms in animals and 
 the modelling of cycles and endogenous clocks. The summer school will be su
 pported by several guest speakers e.g. Charlotte Förster (University of Wür
 zburg), Kristin Tessmar-Raible (University of Vienna), Kim Last (SAMS, Oban
 ) and Henrik Mouritsen (University of Oldenburg).\nThe summer school is org
 anised by PolarTime, a consortium of international research facilities with
  the aim of investigating clocks and rhythms in polar marine key organisms 
 (www.polartime.org). The project is coordinated by Prof. Dr. Bettina Meyer,
  head of the research group “Ecophysiology of pelagic key species” (http://
 bit.ly/1hCyMMQ), and Dr. Mathias Teschke both at the Alfred-Wegener-Institu
 te Helmholtz-Centre for Polar and Marine Research in Bremerhaven, Germany.\
 nABOUT THE VENUE\nThe Island of Spiekeroog is one of the East Frisian Islan
 ds within the UNESCO Wadden Sea World Heritage Site located at the north-we
 stern coast of Germany. It is a small island with only 18.25 km2 and a tota
 l population of around 800 people. Spiekeroog is famous for its breathtakin
 g nature: wide salt marshes, small forests and a rich variety of flora and 
 fauna. A special feature of the island is that there are no cars allowed an
 d only small electro vehicle are used for transportation. However, due to t
 he small size of the island it is possible to walk everywhere. The island i
 s connected to the mainland with a daily ferry service starting from the sm
 all town of Neuharlingersiel.\nPlease find the complete programme here.\nRe
 gistration fee: 350 euro including ferry, accommodation, meals and excursio
 n\nAll students are invited to contribute to the summer school by presentin
 g a poster.\nDeadline for application: 30th of June\nIn order to apply plea
 se send an email with your personal details, short description of your actu
 al project and your institute and a statement of motivation to:\nFabio Picc
 olin (This email address is being protected from spambots. You need JavaScr
 ipt enabled to view it.
				document.getElementById('cloak810af9d72ddbfae64
 6e530cb05340bfd').innerHTML = '';
				var prefix = '&#109;a' + 'i&#108;' + 
 '&#116;o';
				var path = 'hr' + 'ef' + '=';
				var addy810af9d72ddbfae646
 e530cb05340bfd = 'f&#97;b&#105;&#111;.p&#105;cc&#111;l&#105;n' + '&#64;';
	
 			addy810af9d72ddbfae646e530cb05340bfd = addy810af9d72ddbfae646e530cb05340
 bfd + '&#97;w&#105;' + '&#46;' + 'd&#101;';
				var addy_text810af9d72ddbfa
 e646e530cb05340bfd = 'f&#97;b&#105;&#111;.p&#105;cc&#111;l&#105;n' + '&#64;
 ' + '&#97;w&#105;' + '&#46;' + 'd&#101;';document.getElementById('cloak810a
 f9d72ddbfae646e530cb05340bfd').innerHTML += '<a ' + path + '\'' + prefix + 
 ':' + addy810af9d72ddbfae646e530cb05340bfd + '\'>'+addy_text810af9d72ddbfae
 646e530cb05340bfd+'';
		)\nFlavia Höring (This email address is being prote
 cted from spambots. You need JavaScript enabled to view it.
				document.ge
 tElementById('cloak6f6af3e90ec33e57da6b5041a412cce3').innerHTML = '';
				v
 ar prefix = '&#109;a' + 'i&#108;' + '&#116;o';
				var path = 'hr' + 'ef' +
  '=';
				var addy6f6af3e90ec33e57da6b5041a412cce3 = 'fl&#97;v&#105;&#97;.h
 &#111;&#101;r&#105;ng' + '&#64;';
				addy6f6af3e90ec33e57da6b5041a412cce3 
 = addy6f6af3e90ec33e57da6b5041a412cce3 + '&#97;w&#105;' + '&#46;' + 'd&#101
 ;';
				var addy_text6f6af3e90ec33e57da6b5041a412cce3 = 'fl&#97;v&#105;&#97
 ;.h&#111;&#101;r&#105;ng' + '&#64;' + '&#97;w&#105;' + '&#46;' + 'd&#101;';
 document.getElementById('cloak6f6af3e90ec33e57da6b5041a412cce3').innerHTML 
 += '<a ' + path + '\'' + prefix + ':' + addy6f6af3e90ec33e57da6b5041a412cce
 3 + '\'>'+addy_text6f6af3e90ec33e57da6b5041a412cce3+'';
		)\n
X-ALT-DESC;FMTTYPE=text/html:<p>The HVI PolarTime kindly invites you to the<br />CHRONOBIOLOGY OF MARINE
  ORGANISMS SUMMER SCHOOL<br />With an emphasis on high latitude pelagic zoo
 plankton<br />Island of Spiekeroog<br />18 – 24 September 2016</p><p>ABOUT 
 THE EVENT<br />The “Chronobiology of Marine Organisms Summer School” aims t
 o bring together young international researchers who are interested in the 
 phenomenon of biological timing with special focus on the polar and marine 
 environment. It will give insight in general concepts of chronobiology, bio
 logical timing in model organisms and in the marine environment, orientatio
 n mechanisms in animals and the modelling of cycles and endogenous clocks. 
 The summer school will be supported by several guest speakers e.g. Charlott
 e Förster (University of Würzburg), Kristin Tessmar-Raible (University of V
 ienna), Kim Last (SAMS, Oban) and Henrik Mouritsen (University of Oldenburg
 ).<br />The summer school is organised by PolarTime, a consortium of intern
 ational research facilities with the aim of investigating clocks and rhythm
 s in polar marine key organisms (www.polartime.org). The project is coordin
 ated by Prof. Dr. Bettina Meyer, head of the research group “Ecophysiology 
 of pelagic key species” (http://bit.ly/1hCyMMQ), and Dr. Mathias Teschke bo
 th at the Alfred-Wegener-Institute Helmholtz-Centre for Polar and Marine Re
 search in Bremerhaven, Germany.</p><p>ABOUT THE VENUE<br />The Island of Sp
 iekeroog is one of the East Frisian Islands within the UNESCO Wadden Sea Wo
 rld Heritage Site located at the north-western coast of Germany. It is a sm
 all island with only 18.25 km2 and a total population of around 800 people.
  Spiekeroog is famous for its breathtaking nature: wide salt marshes, small
  forests and a rich variety of flora and fauna. A special feature of the is
 land is that there are no cars allowed and only small electro vehicle are u
 sed for transportation. However, due to the small size of the island it is 
 possible to walk everywhere. The island is connected to the mainland with a
  daily ferry service starting from the small town of Neuharlingersiel.</p><
 p>Please find the complete programme here.</p><p>Registration fee: 350 euro
  including ferry, accommodation, meals and excursion</p><p>All students are
  invited to contribute to the summer school by presenting a poster.</p><p>D
 eadline for application: 30th of June</p><p>In order to apply please send a
 n email with your personal details, short description of your actual projec
 t and your institute and a statement of motivation to:</p><p>Fabio Piccolin
  (<span id="cloak810af9d72ddbfae646e530cb05340bfd">This email address is be
 ing protected from spambots. You need JavaScript enabled to view it.</span>
 <script type='text/javascript'>
				document.getElementById('cloak810af9d72
 ddbfae646e530cb05340bfd').innerHTML = '';
				var prefix = '&#109;a' + 'i&#
 108;' + '&#116;o';
				var path = 'hr' + 'ef' + '=';
				var addy810af9d72d
 dbfae646e530cb05340bfd = 'f&#97;b&#105;&#111;.p&#105;cc&#111;l&#105;n' + '&
 #64;';
				addy810af9d72ddbfae646e530cb05340bfd = addy810af9d72ddbfae646e53
 0cb05340bfd + '&#97;w&#105;' + '&#46;' + 'd&#101;';
				var addy_text810af9
 d72ddbfae646e530cb05340bfd = 'f&#97;b&#105;&#111;.p&#105;cc&#111;l&#105;n' 
 + '&#64;' + '&#97;w&#105;' + '&#46;' + 'd&#101;';document.getElementById('c
 loak810af9d72ddbfae646e530cb05340bfd').innerHTML += '<a ' + path + '\'' + p
 refix + ':' + addy810af9d72ddbfae646e530cb05340bfd + '\'>'+addy_text810af9d
 72ddbfae646e530cb05340bfd+'<\/a>';
		</script>)</p><p>Flavia Höring (<span 
 id="cloak6f6af3e90ec33e57da6b5041a412cce3">This email address is being prot
 ected from spambots. You need JavaScript enabled to view it.</span><script 
 type='text/javascript'>
				document.getElementById('cloak6f6af3e90ec33e57d
 a6b5041a412cce3').innerHTML = '';
				var prefix = '&#109;a' + 'i&#108;' + 
 '&#116;o';
				var path = 'hr' + 'ef' + '=';
				var addy6f6af3e90ec33e57da
 6b5041a412cce3 = 'fl&#97;v&#105;&#97;.h&#111;&#101;r&#105;ng' + '&#64;';
		
 		addy6f6af3e90ec33e57da6b5041a412cce3 = addy6f6af3e90ec33e57da6b5041a412cc
 e3 + '&#97;w&#105;' + '&#46;' + 'd&#101;';
				var addy_text6f6af3e90ec33e5
 7da6b5041a412cce3 = 'fl&#97;v&#105;&#97;.h&#111;&#101;r&#105;ng' + '&#64;' 
 + '&#97;w&#105;' + '&#46;' + 'd&#101;';document.getElementById('cloak6f6af3
 e90ec33e57da6b5041a412cce3').innerHTML += '<a ' + path + '\'' + prefix + ':
 ' + addy6f6af3e90ec33e57da6b5041a412cce3 + '\'>'+addy_text6f6af3e90ec33e57d
 a6b5041a412cce3+'<\/a>';
		</script>)</p>
X-EXTRAINFO:Deadline for application: 30th of June
DTSTAMP:20260423T145526Z
DTSTART;TZID=UTC;VALUE=DATE:20160918
DTEND;TZID=UTC;VALUE=DATE:20160925
SEQUENCE:0
TRANSP:OPAQUE
END:VEVENT
END:VCALENDAR