BEGIN:VCALENDAR
VERSION:2.0
PRODID:-//jEvents 2.0 for Joomla//EN
CALSCALE:GREGORIAN
METHOD:PUBLISH
BEGIN:VEVENT
UID:6a794b98576aded94c49c6ca8b4af76a
CATEGORIES:Polar Conferences, Meetings and Events
CREATED:20181031T232025
SUMMARY:AGU Fall Meeting 2018
LOCATION:Washington\, D.C.\, United States
DESCRIPTION:More information on the AGU Fall Meeting 2018 Website: https://fallmeeting.
 agu.org/2018/\n
X-ALT-DESC;FMTTYPE=text/html:<p>More information on the AGU Fall Meeting 2018 Website:&nbsp;<a href="htt
 ps://fallmeeting.agu.org/2018/">https://fallmeeting.agu.org/2018/</a></p>
DTSTAMP:20260421T062248Z
DTSTART;TZID=UTC;VALUE=DATE:20181210
DTEND;TZID=UTC;VALUE=DATE:20181215
SEQUENCE:0
TRANSP:OPAQUE
END:VEVENT
END:VCALENDAR