BEGIN:VCALENDAR
VERSION:2.0
PRODID:-//jEvents 2.0 for Joomla//EN
CALSCALE:GREGORIAN
METHOD:PUBLISH
BEGIN:VEVENT
UID:b963dd7fecb1471e7ab7544eb183cc0c
CATEGORIES:Polar Conferences, Meetings and Events
CREATED:20181031T144424
SUMMARY:Coordinating Seasonal Predictions of Sea Ice in the Southern Ocean for 2017-2019
DESCRIPTION:The Sea Ice Prediction Network South (SIPN South) is inviting\ncontributors
  to participate to the second coordinated sea ice prediction\nexperiment in
  the Southern Ocean, targeting December 2018-February 2019\nand aligned wit
 h the Year Of Polar Prediction (YOPP) Special Observing\nPeriod in the Sout
 hern Ocean.\nFor more information about the project and for submission guid
 elines,\nplease follow this link:\nhttp://www.climate.be/users/fmasson/SIPN
 South_2019_call.pdf\nWe kindly draw your attention to the deadline for subm
 ission of the\nforecasts: 1st of December 2018.\nQuestions or feedbacks may
  be directed to François Massonnet\n(This email address is being protected 
 from spambots. You need JavaScript enabled to view it.
				document.getElem
 entById('cloak019b3f788945bfada82f5287f9a91728').innerHTML = '';
				var pr
 efix = '&#109;a' + 'i&#108;' + '&#116;o';
				var path = 'hr' + 'ef' + '=';
 
				var addy019b3f788945bfada82f5287f9a91728 = 'fr&#97;nc&#111;&#105;s.m&#
 97;ss&#111;nn&#101;t' + '&#64;';
				addy019b3f788945bfada82f5287f9a91728 =
  addy019b3f788945bfada82f5287f9a91728 + '&#117;cl&#111;&#117;v&#97;&#105;n'
  + '&#46;' + 'b&#101;';
				var addy_text019b3f788945bfada82f5287f9a91728 =
  'fr&#97;nc&#111;&#105;s.m&#97;ss&#111;nn&#101;t' + '&#64;' + '&#117;cl&#11
 1;&#117;v&#97;&#105;n' + '&#46;' + 'b&#101;';document.getElementById('cloak
 019b3f788945bfada82f5287f9a91728').innerHTML += '<a ' + path + '\'' + prefi
 x + ':' + addy019b3f788945bfada82f5287f9a91728 + '\'>'+addy_text019b3f78894
 5bfada82f5287f9a91728+'';
		).\nWe are looking forward to receiving your co
 ntribution,\n \nThe SIPN south Leadership team\nF. Massonnet, P. Reid, J. L
 ieser, J. Fyfe, C. Bits, W. Hobbs\n
X-ALT-DESC;FMTTYPE=text/html:<p>The Sea Ice Prediction Network South (SIPN South) is inviting<br />contr
 ibutors to participate to the second coordinated sea ice prediction<br />ex
 periment in the Southern Ocean, targeting December 2018-February 2019<br />
 and aligned with the Year Of Polar Prediction (YOPP) Special Observing<br /
 >Period in the Southern Ocean.</p><p>For more information about the project
  and for submission guidelines,<br />please follow this link:</p><p>http://
 www.climate.be/users/fmasson/SIPNSouth_2019_call.pdf</p><p>We kindly draw y
 our attention to the deadline for submission of the<br />forecasts: <strong
 >1st of December 2018.</strong></p><p>Questions or feedbacks may be directe
 d to François Massonnet<br />(<span id="cloak019b3f788945bfada82f5287f9a917
 28">This email address is being protected from spambots. You need JavaScrip
 t enabled to view it.</span><script type='text/javascript'>
				document.ge
 tElementById('cloak019b3f788945bfada82f5287f9a91728').innerHTML = '';
				v
 ar prefix = '&#109;a' + 'i&#108;' + '&#116;o';
				var path = 'hr' + 'ef' +
  '=';
				var addy019b3f788945bfada82f5287f9a91728 = 'fr&#97;nc&#111;&#105;
 s.m&#97;ss&#111;nn&#101;t' + '&#64;';
				addy019b3f788945bfada82f5287f9a91
 728 = addy019b3f788945bfada82f5287f9a91728 + '&#117;cl&#111;&#117;v&#97;&#1
 05;n' + '&#46;' + 'b&#101;';
				var addy_text019b3f788945bfada82f5287f9a91
 728 = 'fr&#97;nc&#111;&#105;s.m&#97;ss&#111;nn&#101;t' + '&#64;' + '&#117;c
 l&#111;&#117;v&#97;&#105;n' + '&#46;' + 'b&#101;';document.getElementById('
 cloak019b3f788945bfada82f5287f9a91728').innerHTML += '<a ' + path + '\'' + 
 prefix + ':' + addy019b3f788945bfada82f5287f9a91728 + '\'>'+addy_text019b3f
 788945bfada82f5287f9a91728+'<\/a>';
		</script>).</p><p>We are looking forw
 ard to receiving your contribution,</p><p>&nbsp;</p><p>The SIPN south Leade
 rship team</p><p>F. Massonnet, P. Reid, J. Lieser, J. Fyfe, C. Bits, W. Hob
 bs</p>
X-EXTRAINFO:http://www.climate.be/users/fmasson/SIPNSouth_2019_call.pdf
DTSTAMP:20260421T063254Z
DTSTART;TZID=UTC;VALUE=DATE:20181201
DTEND;TZID=UTC;VALUE=DATE:20190301
SEQUENCE:0
TRANSP:OPAQUE
END:VEVENT
END:VCALENDAR