BEGIN:VCALENDAR
VERSION:2.0
PRODID:-//jEvents 2.0 for Joomla//EN
CALSCALE:GREGORIAN
METHOD:PUBLISH
BEGIN:VEVENT
UID:2c67c7edbab9a07d4b2b7ed27b0a5b69
CATEGORIES:Field and Summer Schools
CREATED:20181025T104330
SUMMARY:5th Snow Science Winter School for PhD students and post docs
LOCATION:Hailuoto\, Finland
DESCRIPTION:<p>The 5th Snow Science Winter School will be arranged 17-23 February 2019 
 in Hailuoto, Finland by the WSL Institute for Snow and Avalanche Research S
 LF and the Finnish Meteorological Institute. The field-oriented training co
 urse will teach state-of-the-art snow measurement techniques, but also incl
 udes lectures on physical processes of the snowpack, snow modeling and remo
 te sensing. This year the focus is on snow on sea ice. The location is a sm
 all island on the Gulf of Bothnia with easy access to sea ice.</p><p>&nbsp;
 </p><p>Graduate students and post-docs working on any snow-related field ar
 e welcome to apply. More information and link for application can be found 
 from www.slf.ch/more/snowschool. Application deadline is November 6, 2018. 
 Course fee is 350 euros (includes accommodation and meals).</p><p>&nbsp;</p
 ><p>Anna Kontu D.Sc.(Tech)</p><p>Finnish Meteorological Institute, Space an
 d Earth Observation Centre, Cryospheric Processes</p><p>Sodankylä, Finland<
 /p><p>+358 400 126 446</p>
X-EXTRAINFO:https://www.slf.ch/en/about-the-slf/events-and-courses/snow-science-winter-
 school.html
DTSTAMP:20260424T203615Z
DTSTART;TZID=UTC;VALUE=DATE:20190217
DTEND;TZID=UTC;VALUE=DATE:20190224
SEQUENCE:0
TRANSP:OPAQUE
END:VEVENT
END:VCALENDAR