BEGIN:VCALENDAR
VERSION:2.0
PRODID:-//jEvents 2.0 for Joomla//EN
CALSCALE:GREGORIAN
METHOD:PUBLISH
BEGIN:VEVENT
UID:dc19dc701cc1a4f9de774f4753ec8545
CATEGORIES:Polar Conferences, Meetings and Events
CREATED:20181019T080153
SUMMARY:1st Southern Hemisphere Regional Conference on Permafrost (SouthCOP)
LOCATION:Queenstown\, New Zealand
DESCRIPTION:<p>SouthCOP - The first Southern Hemisphere Regional Conference on Permafro
 st will operate in a new format, with three-day field excursions offered be
 fore and after the conference session days. This will allow participants to
  make a roundtrip from Christchurch to Queenstown, with visits to glaciers 
 and glacial lakes, the South West New Zealand World Heritage Area and Aorak
 i/Mount Cook National Park, cultural points of interest, and scenic spots t
 o discuss glacial and periglacial landscape development.&nbsp;Participants 
 can opt for the whole roundtrip package, or choose the conference session p
 ortion and/or field excursions separately.&nbsp;</p><p><strong>Abstract Dea
 dline: 7 April</strong></p><p><strong>Early-bird Registration Deadline: 20 
 October</strong></p><p>For further information, visit:&nbsp;<a href="https:
 //www.southcop19.com">https://www.southcop19.com</a></p>
X-EXTRAINFO:https://www.southcop19.com/
DTSTAMP:20260425T232747Z
DTSTART;TZID=UTC;VALUE=DATE:20191204
DTEND;TZID=UTC;VALUE=DATE:20191215
SEQUENCE:0
TRANSP:OPAQUE
END:VEVENT
END:VCALENDAR