BEGIN:VCALENDAR
VERSION:2.0
PRODID:-//jEvents 2.0 for Joomla//EN
CALSCALE:GREGORIAN
METHOD:PUBLISH
BEGIN:VEVENT
UID:7b94d9abf1bcfc468dd74088e2ed59ac
CATEGORIES:Polar Conferences, Meetings and Events
CREATED:20181019T074947
SUMMARY:Aquatic Sciences Meeting
LOCATION:San Juan\, Puerto Rico
DESCRIPTION:Organizers invite session abstracts for the Association for the Sciences of
  Limnology and Oceanography (ASLO) 2019 Aquatic Sciences Meeting. This meet
 ing will convene 23 February – 2 March 2019 in San Juan, Puerto Rico.\nASLO
  is offering two sessions that will highlight Arctic research. These sessio
 ns include SS16: Changing Biogeochemistry and Ecology across Arctic Aquatic
  Systems in the 21st Century and CS36: Arctic Ecosystems.\nSession SS16: Ch
 anging Biogeochemistry and Ecology across Arctic Aquatic Systems in the 21s
 t Century, will emphasize changes in the biogeochemistry and ecology of Arc
 tic waters. Potential topic areas for this session may include nutrient, ca
 rbon, and toxin dynamics, including the release, transport, and transformat
 ion of biogeochemical constituents across the Arctic aquatic continuum, cha
 nging food web dynamics, and ecosystem function, as well as changing physic
 al processes related to altered temperature and ice cover regimes. Studies 
 across gradients and land-water interfaces are encouraged. Reviews, seconda
 ry analyses, and meta-analyses taking a comparative approach across Arctic 
 systems are also welcome.\nSession CS36: Arctic Ecosystems will provide a p
 latform for sharing results from a wider range of physical, chemical, and b
 iological studies of aquatic systems at high northern latitudes.\nThese ses
 sions are being jointly organized and chaired to create a diverse lineup of
  presentations from the Arctic research community, and will form the seed o
 f a 2021 special Arctic-oriented issue in Limnology &amp; Oceanography.\nAb
 stract submission deadline: 22 October 2018\nFor session descriptions, go t
 o:\nSessions webpage\nFor abstract submission information and guidelines, g
 o to:\nAbstract submission overview webpage\nFor more information about the
  meeting, go to:\nMeeting homepage\nFor questions, contact:\nJames McClella
 nd\nEmail: This email address is being protected from spambots. You need Ja
 vaScript enabled to view it.
				document.getElementById('cloak8fe8df5a0086
 8793d0be9a0a74534bfd').innerHTML = '';
				var prefix = '&#109;a' + 'i&#108
 ;' + '&#116;o';
				var path = 'hr' + 'ef' + '=';
				var addy8fe8df5a00868
 793d0be9a0a74534bfd = 'j&#105;mm' + '&#64;';
				addy8fe8df5a00868793d0be9a
 0a74534bfd = addy8fe8df5a00868793d0be9a0a74534bfd + '&#117;t&#101;x&#97;s' 
 + '&#46;' + '&#101;d&#117;';
				var addy_text8fe8df5a00868793d0be9a0a74534
 bfd = 'j&#105;mm' + '&#64;' + '&#117;t&#101;x&#97;s' + '&#46;' + '&#101;d&#
 117;';document.getElementById('cloak8fe8df5a00868793d0be9a0a74534bfd').inne
 rHTML += '<a ' + path + '\'' + prefix + ':' + addy8fe8df5a00868793d0be9a0a7
 4534bfd + '\'>'+addy_text8fe8df5a00868793d0be9a0a74534bfd+'';
		\n
X-ALT-DESC;FMTTYPE=text/html:<p>Organizers invite session abstracts for the Association for the Sciences
  of Limnology and Oceanography (ASLO) 2019 Aquatic Sciences Meeting. This m
 eeting will convene 23 February – 2 March 2019 in San Juan, Puerto Rico.</p
 ><p>ASLO is offering two sessions that will highlight Arctic research. Thes
 e sessions include SS16: Changing Biogeochemistry and Ecology across Arctic
  Aquatic Systems in the 21st Century and CS36: Arctic Ecosystems.</p><p>Ses
 sion SS16: Changing Biogeochemistry and Ecology across Arctic Aquatic Syste
 ms in the 21st Century, will emphasize changes in the biogeochemistry and e
 cology of Arctic waters. Potential topic areas for this session may include
  nutrient, carbon, and toxin dynamics, including the release, transport, an
 d transformation of biogeochemical constituents across the Arctic aquatic c
 ontinuum, changing food web dynamics, and ecosystem function, as well as ch
 anging physical processes related to altered temperature and ice cover regi
 mes. Studies across gradients and land-water interfaces are encouraged. Rev
 iews, secondary analyses, and meta-analyses taking a comparative approach a
 cross Arctic systems are also welcome.</p><p>Session CS36: Arctic Ecosystem
 s will provide a platform for sharing results from a wider range of physica
 l, chemical, and biological studies of aquatic systems at high northern lat
 itudes.</p><p>These sessions are being jointly organized and chaired to cre
 ate a diverse lineup of presentations from the Arctic research community, a
 nd will form the seed of a 2021 special Arctic-oriented issue in Limnology 
 &amp; Oceanography.</p><p><strong>Abstract submission deadline: 22 October 
 2018</strong></p><p>For session descriptions, go to:<br />Sessions webpage<
 /p><p>For abstract submission information and guidelines, go to:<br />Abstr
 act submission overview webpage</p><p>For more information about the meetin
 g, go to:<br />Meeting homepage</p><p>For questions, contact:<br />James Mc
 Clelland<br />Email: <span id="cloak8fe8df5a00868793d0be9a0a74534bfd">This 
 email address is being protected from spambots. You need JavaScript enabled
  to view it.</span><script type='text/javascript'>
				document.getElementB
 yId('cloak8fe8df5a00868793d0be9a0a74534bfd').innerHTML = '';
				var prefix
  = '&#109;a' + 'i&#108;' + '&#116;o';
				var path = 'hr' + 'ef' + '=';
			
 	var addy8fe8df5a00868793d0be9a0a74534bfd = 'j&#105;mm' + '&#64;';
				addy
 8fe8df5a00868793d0be9a0a74534bfd = addy8fe8df5a00868793d0be9a0a74534bfd + '
 &#117;t&#101;x&#97;s' + '&#46;' + '&#101;d&#117;';
				var addy_text8fe8df5
 a00868793d0be9a0a74534bfd = 'j&#105;mm' + '&#64;' + '&#117;t&#101;x&#97;s' 
 + '&#46;' + '&#101;d&#117;';document.getElementById('cloak8fe8df5a00868793d
 0be9a0a74534bfd').innerHTML += '<a ' + path + '\'' + prefix + ':' + addy8fe
 8df5a00868793d0be9a0a74534bfd + '\'>'+addy_text8fe8df5a00868793d0be9a0a7453
 4bfd+'<\/a>';
		</script></p>
X-EXTRAINFO:https://aslo.org/sanjuan2019/main
DTSTAMP:20260421T230843Z
DTSTART;TZID=UTC;VALUE=DATE:20190223
DTEND;TZID=UTC;VALUE=DATE:20190303
SEQUENCE:0
TRANSP:OPAQUE
END:VEVENT
END:VCALENDAR