BEGIN:VCALENDAR
VERSION:2.0
PRODID:-//jEvents 2.0 for Joomla//EN
CALSCALE:GREGORIAN
METHOD:PUBLISH
BEGIN:VEVENT
UID:f2144fb95a6642d6c876259e0f49fa7a
CATEGORIES:Polar Conferences, Meetings and Events
CREATED:20181019T074241
SUMMARY:18th International Conference on Cold Regions Engineering / 8th Canadian Permafrost Conference
LOCATION:Quebec City\, Canada
DESCRIPTION:Sustainable infrastructure development and permafrost science, in a climate
  change context, will be the focus of the discussions of the 18th Internati
 onal Conference on Cold Regions Engineering and the 8th Canadian Permafrost
  Conference and the 8th Canadian Permafrost Conference.\nEarly-bird registr
 ation deadline: 15 April\nRegular registration deadline: 17 July\nFor more 
 information, visit this webpage: http://iccre-cpc2019.com\n
X-ALT-DESC;FMTTYPE=text/html:<p>Sustainable infrastructure development and permafrost science, in a clim
 ate change context, will be the focus of the discussions of&nbsp;the 18th I
 nternational Conference on Cold Regions Engineering and the 8th Canadian Pe
 rmafrost Conference and&nbsp;the 8th Canadian Permafrost Conference.</p><p>
 <strong>Early-bird registration deadline: 15 April</strong></p><p><strong>R
 egular registration deadline: 17 July</strong></p><p>For more information, 
 visit this webpage:&nbsp;<a href="http://iccre-cpc2019.com">http://iccre-cp
 c2019.com</a></p>
X-EXTRAINFO:https://mailchi.mp/54375dfbf2ad/iccre-2019-save_the_dates-1132489?e=0697607
 3d0
DTSTAMP:20260423T163503Z
DTSTART;TZID=UTC;VALUE=DATE:20190818
DTEND;TZID=UTC;VALUE=DATE:20190823
SEQUENCE:0
TRANSP:OPAQUE
END:VEVENT
END:VCALENDAR