BEGIN:VCALENDAR
VERSION:2.0
PRODID:-//jEvents 2.0 for Joomla//EN
CALSCALE:GREGORIAN
METHOD:PUBLISH
BEGIN:VEVENT
UID:ca0c0f6dbb4cf90d5a5adcb7baffe44e
CATEGORIES:Polar Conferences, Meetings and Events
CREATED:20181019T073909
SUMMARY:XIII International Symposium on Antarctic Earth Sciences (ISAES 2019)
LOCATION:Songdo Convensia in Incheon\, Republic of Korea
DESCRIPTION:The 13th International Symposium on Antarctic Earth Science (ISAES 2019) ai
 ms to bring together Antarctic earth scientists from different areas in ord
 er to gather and highlight their outstanding expertise and ideas.\nMajor th
 emes of the symposium include:\n1. Continental evolution of Antarctica\n2. 
 Antarctic solid earth structure and interactions with the cryosphere\n3. Pa
 st and present permafrost changes in Antarctica\n4. Glacial history of Anta
 rctica and the Southern Ocean\n5. Antarctic surface processes and landscape
 \n6. Changes in the Southern Ocean\n7. Climate change in the 21st century\n
 8. Antarctica and the evolution of life\n9. Remote sensing and satellite im
 agery\n10. General Antarctic earth sciences\nEarly-bird registration deadli
 ne: 30 April\nAbstract submission deadline: 21 April\nFor more information,
  see: https://scar.org/general-scar-news/isaes2019-1st-circ/\n
X-ALT-DESC;FMTTYPE=text/html:<p>The 13th International Symposium on Antarctic Earth Science (ISAES 2019)
  aims to bring together Antarctic earth scientists from different areas in 
 order to gather and highlight their outstanding expertise and ideas.</p><p>
 Major themes of the symposium include:<br />1. Continental evolution of Ant
 arctica<br />2. Antarctic solid earth structure and interactions with the c
 ryosphere<br />3. Past and present permafrost changes in Antarctica<br />4.
  Glacial history of Antarctica and the Southern Ocean<br />5. Antarctic sur
 face processes and landscape<br />6. Changes in the Southern Ocean<br />7. 
 Climate change in the 21st century<br />8. Antarctica and the evolution of 
 life<br />9. Remote sensing and satellite imagery<br />10. General Antarcti
 c earth sciences</p><p><strong>Early-bird registration deadline: 30 April</
 strong></p><p><strong>Abstract submission deadline: 21 April</strong></p><p
 >For more information, see:&nbsp;<a href="https://scar.org/general-scar-new
 s/isaes2019-1st-circ/">https://scar.org/general-scar-news/isaes2019-1st-cir
 c/</a></p>
CONTACT:Chair Organizing Committee: Dr. Jongkuk Hong (This email address is being protected from spambots. You need JavaScript enabled to view it.
				document.getElementById('cloak8f73cf62f1b84cfeaf015e0ab3b59e3a').innerHTML = '';
				var prefix = '&#109;a' + 'i&#108;' + '&#116;o';
				var path = 'hr' + 'ef' + '=';
				var addy8f73cf62f1b84cfeaf015e0ab3b59e3a = 'jkh&#111;ng' + '&#64;';
				addy8f73cf62f1b84cfeaf015e0ab3b59e3a = addy8f73cf62f1b84cfeaf015e0ab3b59e3a + 'k&#111;pr&#105;' + '&#46;' + 'r&#101;' + '&#46;' + 'kr';
				var addy_text8f73cf62f1b84cfeaf015e0ab3b59e3a = 'jkh&#111;ng' + '&#64;' + 'k&#111;pr&#105;' + '&#46;' + 'r&#101;' + '&#46;' + 'kr';document.getElementById('cloak8f73cf62f1b84cfeaf015e0ab3b59e3a').innerHTML += '<a ' + path + '\'' + prefix + ':' + addy8f73cf62f1b84cfeaf015e0ab3b59e3a + '\'>'+addy_text8f73cf62f1b84cfeaf015e0ab3b59e3a+'';
		) Secretary: Mr. Sunhwi Kim (This email address is being protected from spambots. You need JavaScript enabled to view it.
				document.getElementById('cloakd71e1ad835e9e727551d4ec42d489433').innerHTML = '';
				var prefix = '&#109;a' + 'i&#108;' + '&#116;o';
				var path = 'hr' + 'ef' + '=';
				var addyd71e1ad835e9e727551d4ec42d489433 = 's&#117;nhw&#105;k&#105;m' + '&#64;';
				addyd71e1ad835e9e727551d4ec42d489433 = addyd71e1ad835e9e727551d4ec42d489433 + 'k&#111;pr&#105;' + '&#46;' + 'r&#101;' + '&#46;' + 'kr';
				var addy_textd71e1ad835e9e727551d4ec42d489433 = 's&#117;nhw&#105;k&#105;m' + '&#64;' + 'k&#111;pr&#105;' + '&#46;' + 'r&#101;' + '&#46;' + 'kr';document.getElementById('cloakd71e1ad835e9e727551d4ec42d489433').innerHTML += '<a ' + path + '\'' + prefix + ':' + addyd71e1ad835e9e727551d4ec42d489433 + '\'>'+addy_textd71e1ad835e9e727551d4ec42d489433+'';
		)
DTSTAMP:20260421T101709Z
DTSTART;TZID=UTC;VALUE=DATE:20190722
DTEND;TZID=UTC;VALUE=DATE:20190727
SEQUENCE:0
TRANSP:OPAQUE
END:VEVENT
END:VCALENDAR