BEGIN:VCALENDAR
VERSION:2.0
PRODID:-//jEvents 2.0 for Joomla//EN
CALSCALE:GREGORIAN
METHOD:PUBLISH
BEGIN:VEVENT
UID:07b426aa131e1de81d93a2a54c2a4cd1
CATEGORIES:APECS Events
CREATED:20181017T085756
SUMMARY:Jóvenes investigadores polares en la Antártida. APECS y el Trineo de Viento
LOCATION:Madrid\, Spain
DESCRIPTION:Talk within the Week of Science organised by the Autonomous Community of Ma
 drid\n
X-ALT-DESC;FMTTYPE=text/html:<p>Talk within the Week of Science organised by the Autonomous Community of
  Madrid</p>
CONTACT:This email address is being protected from spambots. You need JavaScript enabled to view it.
				document.getElementById('cloake6fb7c599850eda5a9d2675b1c8759b1').innerHTML = '';
				var prefix = '&#109;a' + 'i&#108;' + '&#116;o';
				var path = 'hr' + 'ef' + '=';
				var addye6fb7c599850eda5a9d2675b1c8759b1 = 'm&#97;f&#101;rn&#97;nd&#101;z' + '&#64;';
				addye6fb7c599850eda5a9d2675b1c8759b1 = addye6fb7c599850eda5a9d2675b1c8759b1 + 'c&#97;b' + '&#46;' + '&#105;nt&#97;-cs&#105;c' + '&#46;' + '&#101;s';
				var addy_texte6fb7c599850eda5a9d2675b1c8759b1 = 'm&#97;f&#101;rn&#97;nd&#101;z' + '&#64;' + 'c&#97;b' + '&#46;' + '&#105;nt&#97;-cs&#105;c' + '&#46;' + '&#101;s';document.getElementById('cloake6fb7c599850eda5a9d2675b1c8759b1').innerHTML += '<a ' + path + '\'' + prefix + ':' + addye6fb7c599850eda5a9d2675b1c8759b1 + '\'>'+addy_texte6fb7c599850eda5a9d2675b1c8759b1+'';
		
X-EXTRAINFO:https://www.madrimasd.org/semanacienciaeinnovacion/actividad/jovenes-invest
 igadores-polares-en-la-antartida-apecs-y-el-trineo-de-viento
DTSTAMP:20260422T005129Z
DTSTART;TZID=UTC:20181113T180000
DTEND;TZID=UTC:20181113T190000
SEQUENCE:0
TRANSP:OPAQUE
END:VEVENT
END:VCALENDAR