BEGIN:VCALENDAR
VERSION:2.0
PRODID:-//jEvents 2.0 for Joomla//EN
CALSCALE:GREGORIAN
METHOD:PUBLISH
BEGIN:VEVENT
UID:e1f16d9e8fb6dc08d07058821d0c32e6
CATEGORIES:Polar Conferences, Meetings and Events
CREATED:20181016T091811
SUMMARY:IASC Workshop on Effects and Extremes of High Latitude Dust
LOCATION:Reykjavik\, Iceland
DESCRIPTION:<p><strong>First announcement of IASC Workshop on Effects and Extremes of H
 igh Latitude Dust</strong></p><p>Where: Reykjavik, Iceland,<br />When: 13-1
 4 Feb 2019<br />Confirmed Key note speaker: prof. Joanna Bullard, UK, the f
 irst-author of "High‐latitude dust in the Earth system", <a href="https://a
 gupubs.onlinelibrary.wiley.com/doi/10.1002/2016RG000518">https://agupubs.on
 linelibrary.wiley.com/doi/10.1002/2016RG000518</a><br />Venue: Agricultural
  University of Iceland (AUI), Keldnaholt, Reykjavik, Iceland<br />Registrat
 ion: <a href="https://link.webropolsurveys.com/S/8FF87C7AEB56BB70">https://
 link.webropolsurveys.com/S/8FF87C7AEB56BB70</a></p><p>High latitude dust (H
 LD), originating from cold high latitudes (≥ 50 °N and ≥ 40 °S) affects the
  cryosphere, oceans, air quality and safety, and in Europe both the High Ar
 ctic and the European mainland.<br />Extreme HLD related events include une
 xpected, unusual or unseasonal events with exceptional magnitude, duration,
  severity, or extent, such as most severe wind erosion events, storms, dust
  storms, snow-dust storms, heat waves, cold weather, and extreme snowfalls,
  for example.</p><p>Jointly organized by the Finnish Meteorological Institu
 te (FMI), the Agricultural University of Iceland (AUI), and the Internation
 al Arctic Science Committee (IASC), together with the IceDust Association, 
 this workshop will bring together high latitude dust scientists to present 
 and discuss all aspects of effects and extremes of HLD. The workshop aims t
 o networking and interaction. More information on the workshop, including s
 ession topics will be announced soon.</p><p>Early career scientists (regist
 ered PhD students or PhD degree gained within 5 years) are encouraged to ap
 ply for the IASC travel support when submitting a presentation. Two ECS pre
 sentations will be selected for travel cost support of 750 eur (reimburseme
 nt based on receipts, further instruction for will be provided when the sel
 ection will be announced).</p><p>Registration: We welcome your registration
  (by 11 Jan 2019), and your submissions for talks (by 30 Nov 2018) and post
 ers (by 11 Jan 2019) via the registration link. The registration link is he
 re: <a href="https://link.webropolsurveys.com/S/8FF87C7AEB56BB70">https://l
 ink.webropolsurveys.com/S/8FF87C7AEB56BB70</a></p><p>Updates to the agenda 
 can be followed in the internet at the following addresses: IASC (<a href="
 https://iasc.info/upcoming-iasc-events">https://iasc.info/upcoming-iasc-eve
 nts</a>), FMI (<a href="https://twitter.com/FMI_Snow">https://twitter.com/F
 MI_Snow</a>), and IceDust (<a href="https://icedustblog.wordpress.com/">htt
 ps://icedustblog.wordpress.com/</a>).</p><p>We look forward to welcoming yo
 u!</p><p>Organizing team: Outi Meinander (Finnish Meteorological Institute,
  contact: <span id="cloak403b0c1933af9ec5601029301d3da595">This email addre
 ss is being protected from spambots. You need JavaScript enabled to view it
 .</span><script type='text/javascript'>
				document.getElementById('cloak4
 03b0c1933af9ec5601029301d3da595').innerHTML = '';
				var prefix = '&#109;a
 ' + 'i&#108;' + '&#116;o';
				var path = 'hr' + 'ef' + '=';
				var addy40
 3b0c1933af9ec5601029301d3da595 = 'f&#105;rstn&#97;m&#101;.l&#97;stn&#97;m&#
 101;' + '&#64;';
				addy403b0c1933af9ec5601029301d3da595 = addy403b0c1933a
 f9ec5601029301d3da595 + 'fm&#105;' + '&#46;' + 'f&#105;';
				var addy_text
 403b0c1933af9ec5601029301d3da595 = 'f&#105;rstn&#97;m&#101;.l&#97;stn&#97;m
 &#101;' + '&#64;' + 'fm&#105;' + '&#46;' + 'f&#105;';document.getElementByI
 d('cloak403b0c1933af9ec5601029301d3da595').innerHTML += '<a ' + path + '\''
  + prefix + ':' + addy403b0c1933af9ec5601029301d3da595 + '\'>'+addy_text403
 b0c1933af9ec5601029301d3da595+'<\/a>';
		</script>), Pavla Dagsson-Waldhaus
 erova (Agricultural University of Iceland, contact: <span id="cloak66ecc12c
 e73218f0a5c8d584cd45a553">This email address is being protected from spambo
 ts. You need JavaScript enabled to view it.</span><script type='text/javasc
 ript'>
				document.getElementById('cloak66ecc12ce73218f0a5c8d584cd45a553')
 .innerHTML = '';
				var prefix = '&#109;a' + 'i&#108;' + '&#116;o';
				va
 r path = 'hr' + 'ef' + '=';
				var addy66ecc12ce73218f0a5c8d584cd45a553 = 
 'f&#105;rstn&#97;m&#101;' + '&#64;';
				addy66ecc12ce73218f0a5c8d584cd45a5
 53 = addy66ecc12ce73218f0a5c8d584cd45a553 + 'lbh&#105;' + '&#46;' + '&#105;
 s';
				var addy_text66ecc12ce73218f0a5c8d584cd45a553 = 'f&#105;rstn&#97;m&
 #101;' + '&#64;' + 'lbh&#105;' + '&#46;' + '&#105;s';document.getElementByI
 d('cloak66ecc12ce73218f0a5c8d584cd45a553').innerHTML += '<a ' + path + '\''
  + prefix + ':' + addy66ecc12ce73218f0a5c8d584cd45a553 + '\'>'+addy_text66e
 cc12ce73218f0a5c8d584cd45a553+'<\/a>';
		</script>), together with IASC mem
 bers of Halldór Björnsson and Guðrún Nína Petersen (Icelandic Meteorologica
 l Office), Kent Moore (University of Toronto), Joan Nymand Larsen (Stefanss
 on Arctic Institute), and Lassi Heininen (University of Lapland), and in co
 -operation with the IceDust Association, Iceland</p>
DTSTAMP:20260422T011605Z
DTSTART;TZID=UTC;VALUE=DATE:20190213
DTEND;TZID=UTC;VALUE=DATE:20190215
SEQUENCE:0
TRANSP:OPAQUE
END:VEVENT
END:VCALENDAR