BEGIN:VCALENDAR
VERSION:2.0
PRODID:-//jEvents 2.0 for Joomla//EN
CALSCALE:GREGORIAN
METHOD:PUBLISH
BEGIN:VEVENT
UID:00f4420ff24dc570faa0bed9dbc6f25f
CATEGORIES:Polar Conferences, Meetings and Events
CREATED:20181010T090133
SUMMARY:23rd Alpine Glaciology Meeting
LOCATION:Innsbruck\, Austria
DESCRIPTION:<p>The 2019 Alpine Glaciology Meeting (AGM) will be hosted in Innsbruck, Au
 stria. The meeting serves as informal exchange platform for researchers wor
 king on snow, glaciers and permafrost in all regions of the world. Oral and
  poster presentations are welcome, and young researchers are especially enc
 ouraged to present their work in progress!</p><p>There is no registration f
 ee to the meeting, but we recommend to book your accommodation in advance, 
 since Innsbruck is a beloved tourist destination this time of year.</p><p>T
 he meeting will be held in the Aula of the main building of the University 
 of Innsbruck, in close vicinity of the town center.</p><p>Time frame (will 
 be updated as the meeting approaches)<br />- October 2018: first conference
  announcement<br />- November 2018: call for presentations and posters<br /
 >- February 2019: deadline for registration</p><p>Find more informaition he
 re: <a href="https://www.uibk.ac.at/congress/agm2019/">https://www.uibk.ac.
 at/congress/agm2019/</a>&nbsp;</p><p>We hope to welcome many of you in Inns
 bruck!</p><p>&nbsp;</p><p>Organisation committee:<br />Fabien Maussion, Lin
 dsey Nicholson, Stephan Galos, Georg Kaser, Michael Kuhn<br />Department of
  Atmospheric and Cryospheric Sciences (ACINN)<br />Research Centre for Clim
 ate - Cryosphere and Atmosphere</p><p>Queries should be addressed to Fabien
  Maussion or Lindsey Nicholson</p>
DTSTAMP:20260421T231526Z
DTSTART;TZID=UTC;VALUE=DATE:20190228
DTEND;TZID=UTC;VALUE=DATE:20190302
SEQUENCE:0
TRANSP:OPAQUE
END:VEVENT
END:VCALENDAR