BEGIN:VCALENDAR
VERSION:2.0
PRODID:-//jEvents 2.0 for Joomla//EN
CALSCALE:GREGORIAN
METHOD:PUBLISH
BEGIN:VEVENT
UID:845195ea6515b479f9ef9402884bfa52
CATEGORIES:APECS Events
CREATED:20181005T080905
SUMMARY:APECS Sweden Grant Proposal Writing Workshop
LOCATION:Gothenburg\, Sweden
DESCRIPTION:<p>Be it the travel stipend for a conference or a big collaborative researc
 h project proposal: We all apply for grants at some point, and it can seem 
 like a daunting task to many of us. During this workshop, the experts from 
 the Grants and Innovation Office at Gothenburg University teach us how to g
 ive our grant applications the competitive edge. Join us!<br /> <br />More 
 detailed info on the workshop program and registration will follow soon. As
  workshop spots will be limited, please indicate your interest via e-mail t
 o <a href="mailto:apecs.sweden@gmail.com."><span id="cloakb4e411b7284704b67
 e12562edca2357f">This email address is being protected from spambots. You n
 eed JavaScript enabled to view it.</span><script type='text/javascript'>
		
 		document.getElementById('cloakb4e411b7284704b67e12562edca2357f').innerHTM
 L = '';
				var prefix = '&#109;a' + 'i&#108;' + '&#116;o';
				var path = 
 'hr' + 'ef' + '=';
				var addyb4e411b7284704b67e12562edca2357f = '&#97;p&#
 101;cs.sw&#101;d&#101;n' + '&#64;';
				addyb4e411b7284704b67e12562edca2357
 f = addyb4e411b7284704b67e12562edca2357f + 'gm&#97;&#105;l' + '&#46;' + 'c&
 #111;m';
				var addy_textb4e411b7284704b67e12562edca2357f = '&#97;p&#101;c
 s.sw&#101;d&#101;n' + '&#64;' + 'gm&#97;&#105;l' + '&#46;' + 'c&#111;m';doc
 ument.getElementById('cloakb4e411b7284704b67e12562edca2357f').innerHTML += 
 '<a ' + path + '\'' + prefix + ':' + addyb4e411b7284704b67e12562edca2357f +
  '\'>'+addy_textb4e411b7284704b67e12562edca2357f+'<\/a>';
		</script></a></
 p>
CONTACT:This email address is being protected from spambots. You need JavaScript enabled to view it.
				document.getElementById('cloak0dc5a8d242b25469d3849e81b79e9c1a').innerHTML = '';
				var prefix = '&#109;a' + 'i&#108;' + '&#116;o';
				var path = 'hr' + 'ef' + '=';
				var addy0dc5a8d242b25469d3849e81b79e9c1a = '&#97;p&#101;cs.sw&#101;d&#101;n' + '&#64;';
				addy0dc5a8d242b25469d3849e81b79e9c1a = addy0dc5a8d242b25469d3849e81b79e9c1a + 'gm&#97;&#105;l' + '&#46;' + 'c&#111;m';
				var addy_text0dc5a8d242b25469d3849e81b79e9c1a = '&#97;p&#101;cs.sw&#101;d&#101;n' + '&#64;' + 'gm&#97;&#105;l' + '&#46;' + 'c&#111;m';document.getElementById('cloak0dc5a8d242b25469d3849e81b79e9c1a').innerHTML += '<a ' + path + '\'' + prefix + ':' + addy0dc5a8d242b25469d3849e81b79e9c1a + '\'>'+addy_text0dc5a8d242b25469d3849e81b79e9c1a+'';
		
DTSTAMP:20260421T231526Z
DTSTART;TZID=UTC;VALUE=DATE:20181107
DTEND;TZID=UTC;VALUE=DATE:20181108
SEQUENCE:0
TRANSP:OPAQUE
END:VEVENT
END:VCALENDAR