BEGIN:VCALENDAR
VERSION:2.0
PRODID:-//jEvents 2.0 for Joomla//EN
CALSCALE:GREGORIAN
METHOD:PUBLISH
BEGIN:VEVENT
UID:e3557dbea046f1f3fc0ec348b4377258
CATEGORIES:APECS Events
CREATED:20180925T135101
SUMMARY:Benelux Antarctica Day
LOCATION:Belgium\, Luxemburg and the Netherlands
DESCRIPTION:Together with APECS Belgium and APECS Luxemburg, APECS Netherlands is organ
 izing Antarctica Day in different schools in the three countries. The idea 
 is to go to different schools and set-up pin-hole cameras that run on Antar
 ctica day and capture the movement of the light over time. The results will
  be collected and presented later onwards.\n
X-ALT-DESC;FMTTYPE=text/html:<p>Together with APECS Belgium and APECS Luxemburg, APECS Netherlands is or
 ganizing Antarctica Day in different schools in the three countries. The id
 ea is to go to different schools and set-up pin-hole cameras that run on An
 tarctica day and capture the movement of the light over time. The results w
 ill be collected and presented later onwards.</p>
CONTACT:This email address is being protected from spambots. You need JavaScript enabled to view it.
				document.getElementById('cloak91f3a06656452dbe68571f1f78b454a7').innerHTML = '';
				var prefix = '&#109;a' + 'i&#108;' + '&#116;o';
				var path = 'hr' + 'ef' + '=';
				var addy91f3a06656452dbe68571f1f78b454a7 = 'l&#105;nd&#101;.v&#97;nb&#101;ts' + '&#64;';
				addy91f3a06656452dbe68571f1f78b454a7 = addy91f3a06656452dbe68571f1f78b454a7 + 'w&#105;ng' + '&#46;' + 'nl';
				var addy_text91f3a06656452dbe68571f1f78b454a7 = 'l&#105;nd&#101;.v&#97;nb&#101;ts' + '&#64;' + 'w&#105;ng' + '&#46;' + 'nl';document.getElementById('cloak91f3a06656452dbe68571f1f78b454a7').innerHTML += '<a ' + path + '\'' + prefix + ':' + addy91f3a06656452dbe68571f1f78b454a7 + '\'>'+addy_text91f3a06656452dbe68571f1f78b454a7+'';
		
DTSTAMP:20260421T062304Z
DTSTART;TZID=UTC;VALUE=DATE:20181130
DTEND;TZID=UTC;VALUE=DATE:20181202
SEQUENCE:0
TRANSP:OPAQUE
END:VEVENT
END:VCALENDAR