BEGIN:VCALENDAR
VERSION:2.0
PRODID:-//jEvents 2.0 for Joomla//EN
CALSCALE:GREGORIAN
METHOD:PUBLISH
BEGIN:VEVENT
UID:644e88123d97a05fad7f00bcd308c77e
CATEGORIES:Polar Conferences, Meetings and Events
CREATED:20180910T081941
SUMMARY:SCIENCE COMMUNICATION WORKSHOP
LOCATION:Brussels\, Belgium
DESCRIPTION:<p>On 13 November 2018, the Belgian Biodiversity Platform invites Belgian s
 cientists working on biodiversity-related issues to attend a workshop on sc
 ience communication.<br />The goal of this workshop is to provide scientist
 s with tips and tools to improve their communication skills. <br />Particip
 ants will gain general knowledge on what communication entails, and will ge
 t insights into reaching out to specific audiences such as journalists and 
 policy-makers.</p><p>More information on the <a href="https://www.biodivers
 ity.be/4408/?utm_source=Newsflash+contacts&amp;utm_campaign=77b25bbd50-EMAI
 L_CAMPAIGN_2018_06_25_10_05_COPY_01&amp;utm_medium=email&amp;utm_term=0_e59
 caad0cc-77b25bbd50-78657565">workshop website</a></p>
DTSTAMP:20260422T033728Z
DTSTART;TZID=UTC;VALUE=DATE:20181113
DTEND;TZID=UTC;VALUE=DATE:20181114
SEQUENCE:0
TRANSP:OPAQUE
END:VEVENT
END:VCALENDAR