BEGIN:VCALENDAR
VERSION:2.0
PRODID:-//jEvents 2.0 for Joomla//EN
CALSCALE:GREGORIAN
METHOD:PUBLISH
BEGIN:VEVENT
UID:57c5cc3d0de18d2dc18c0559fc3c4d56
CATEGORIES:APECS Events
CREATED:20180910T081726
SUMMARY:APECS Belgium Day 2018
LOCATION:Brussels\, Belgium
DESCRIPTION:We would like to invite all APECS Belgium members and interested parties to
  the APECS Belgium day 2018.\nWhen: 18th September 2018 at 2 pm\nWhere: BEL
 SPO Brussels (Avenue Louise 231 Louizalaan)\nWho: All APECS members and eve
 ryone who is interested in APECS\nWe will meet at 2 pm at BELSPO in Brussel
 s where we have prepared talks about APECS, APECS Belgium, upcoming expedit
 ions and (Ant)Arctic research in general. This is a great opportunity to fi
 nd out what all the other polar researchers in Belgium are doing (and where
  and with whom you could collaborate). At 5pm we will go to a local pub to 
 have a drink (and food) together.\nYou can join for free but please give us
  a quick heads up either by joining the Facebook event or sending an email 
 to This email address is being protected from spambots. You need JavaScript
  enabled to view it.
				document.getElementById('cloak854abfa3cff551e5b9f9
 de53cfea0c97').innerHTML = '';
				var prefix = '&#109;a' + 'i&#108;' + '&#
 116;o';
				var path = 'hr' + 'ef' + '=';
				var addy854abfa3cff551e5b9f9d
 e53cfea0c97 = 'fr&#97;nzm&#97;x&#105;m&#105;l&#105;&#97;n.h&#101;&#105;ndl&
 #101;r' + '&#64;';
				addy854abfa3cff551e5b9f9de53cfea0c97 = addy854abfa3c
 ff551e5b9f9de53cfea0c97 + 'k&#117;l&#101;&#117;v&#101;n' + '&#46;' + 'b&#10
 1;';
				var addy_text854abfa3cff551e5b9f9de53cfea0c97 = 'fr&#97;nzm&#97;x&
 #105;m&#105;l&#105;&#97;n.h&#101;&#105;ndl&#101;r' + '&#64;' + 'k&#117;l&#1
 01;&#117;v&#101;n' + '&#46;' + 'b&#101;';document.getElementById('cloak854a
 bfa3cff551e5b9f9de53cfea0c97').innerHTML += '<a ' + path + '\'' + prefix + 
 ':' + addy854abfa3cff551e5b9f9de53cfea0c97 + '\'>'+addy_text854abfa3cff551e
 5b9f9de53cfea0c97+'';
		\n \nWe are looking forward seeing you there!\n
X-ALT-DESC;FMTTYPE=text/html:<p>We would like to invite all APECS Belgium members and interested parties
  to the APECS Belgium day 2018.</p><p>When: 18th September 2018 at 2 pm</p>
 <p>Where: BELSPO Brussels (Avenue Louise 231 Louizalaan)</p><p>Who: All APE
 CS members and everyone who is interested in APECS</p><p>We will meet at 2 
 pm at BELSPO in Brussels where we have prepared talks about APECS, APECS Be
 lgium, upcoming expeditions and (Ant)Arctic research in general. This is a 
 great opportunity to find out what all the other polar researchers in Belgi
 um are doing (and where and with whom you could collaborate). At 5pm we wil
 l go to a local pub to have a drink (and food) together.</p><p>You can join
  for free but please give us a quick heads up either by joining the Faceboo
 k event or sending an email to <span id="cloak854abfa3cff551e5b9f9de53cfea0
 c97">This email address is being protected from spambots. You need JavaScri
 pt enabled to view it.</span><script type='text/javascript'>
				document.g
 etElementById('cloak854abfa3cff551e5b9f9de53cfea0c97').innerHTML = '';
				
 var prefix = '&#109;a' + 'i&#108;' + '&#116;o';
				var path = 'hr' + 'ef' 
 + '=';
				var addy854abfa3cff551e5b9f9de53cfea0c97 = 'fr&#97;nzm&#97;x&#10
 5;m&#105;l&#105;&#97;n.h&#101;&#105;ndl&#101;r' + '&#64;';
				addy854abfa3
 cff551e5b9f9de53cfea0c97 = addy854abfa3cff551e5b9f9de53cfea0c97 + 'k&#117;l
 &#101;&#117;v&#101;n' + '&#46;' + 'b&#101;';
				var addy_text854abfa3cff55
 1e5b9f9de53cfea0c97 = 'fr&#97;nzm&#97;x&#105;m&#105;l&#105;&#97;n.h&#101;&#
 105;ndl&#101;r' + '&#64;' + 'k&#117;l&#101;&#117;v&#101;n' + '&#46;' + 'b&#
 101;';document.getElementById('cloak854abfa3cff551e5b9f9de53cfea0c97').inne
 rHTML += '<a ' + path + '\'' + prefix + ':' + addy854abfa3cff551e5b9f9de53c
 fea0c97 + '\'>'+addy_text854abfa3cff551e5b9f9de53cfea0c97+'<\/a>';
		</scri
 pt></p><p>&nbsp;</p><p>We are looking forward seeing you there!</p>
CONTACT:This email address is being protected from spambots. You need JavaScript enabled to view it.
				document.getElementById('cloak2fb6c26e4394286a06baa56863da68ce').innerHTML = '';
				var prefix = '&#109;a' + 'i&#108;' + '&#116;o';
				var path = 'hr' + 'ef' + '=';
				var addy2fb6c26e4394286a06baa56863da68ce = 'fr&#97;nzm&#97;x&#105;m&#105;l&#105;&#97;n.h&#101;&#105;ndl&#101;r' + '&#64;';
				addy2fb6c26e4394286a06baa56863da68ce = addy2fb6c26e4394286a06baa56863da68ce + 'k&#117;l&#101;&#117;v&#101;n' + '&#46;' + 'b&#101;';
				var addy_text2fb6c26e4394286a06baa56863da68ce = 'fr&#97;nzm&#97;x&#105;m&#105;l&#105;&#97;n.h&#101;&#105;ndl&#101;r' + '&#64;' + 'k&#117;l&#101;&#117;v&#101;n' + '&#46;' + 'b&#101;';document.getElementById('cloak2fb6c26e4394286a06baa56863da68ce').innerHTML += '<a ' + path + '\'' + prefix + ':' + addy2fb6c26e4394286a06baa56863da68ce + '\'>'+addy_text2fb6c26e4394286a06baa56863da68ce+'';
		
DTSTAMP:20260422T004437Z
DTSTART;TZID=UTC;VALUE=DATE:20180918
DTEND;TZID=UTC;VALUE=DATE:20180919
SEQUENCE:0
TRANSP:OPAQUE
END:VEVENT
END:VCALENDAR