BEGIN:VCALENDAR
VERSION:2.0
PRODID:-//jEvents 2.0 for Joomla//EN
CALSCALE:GREGORIAN
METHOD:PUBLISH
BEGIN:VEVENT
UID:a7a8446f9788b26c588a24e6b76f2bcb
CATEGORIES:Polar Conferences, Meetings and Events
CREATED:20180823T075817
SUMMARY:Arctic Circle Assembly
LOCATION:Reykjavik\, Iceland
DESCRIPTION:The Arctic Circle is the largest network of international dialogue and coop
 eration on the future of the Arctic. It is an open democratic platform with
  participation from governments, organizations, corporations, universities,
  think tanks, environmental associations, indigenous communities, concerned
  citizens, and others interested in the development of the Arctic and its c
 onsequences for the future of the globe. It is a nonprofit and nonpartisan 
 organization.\nMore information: http://www.arcticcircle.org/\n
X-ALT-DESC;FMTTYPE=text/html:<p>The Arctic Circle is the largest network of international dialogue and c
 ooperation on the future of the Arctic. It is an open democratic platform w
 ith participation from governments, organizations, corporations, universiti
 es, think tanks, environmental associations, indigenous communities, concer
 ned citizens, and others interested in the development of the Arctic and it
 s consequences for the future of the globe. It is a nonprofit and nonpartis
 an organization.</p><p>More information:&nbsp;<a href="http://www.arcticcir
 cle.org/">http://www.arcticcircle.org/</a></p>
DTSTAMP:20260421T210656Z
DTSTART;TZID=UTC;VALUE=DATE:20181013
DTEND;TZID=UTC;VALUE=DATE:20181016
SEQUENCE:0
TRANSP:OPAQUE
END:VEVENT
END:VCALENDAR