BEGIN:VCALENDAR
VERSION:2.0
PRODID:-//jEvents 2.0 for Joomla//EN
CALSCALE:GREGORIAN
METHOD:PUBLISH
BEGIN:VEVENT
UID:a7ab6bb5bbfae676faed28076f14a834
CATEGORIES:APECS Events
CREATED:20180814T204522
SUMMARY:APECS Workshop at UArctic Congress 2018
LOCATION:Oulu\, Finland
DESCRIPTION:The Association of Polar Early Career Scientists (APECS) and the University
  of the Arctic are jointly organising a science communication workshop in c
 onnection with the UArctic Congress 2018 in Oulu, Finland. The main worksho
 p day will be on 3 September 2018 but participants will be expected to work
  on tasks throughout the duration of the congress.\nThe workshop will focus
  on three topics:\n\n - Storytelling as a tool for science communication\n 
 - Using social media for science communication\n - Communicating science to
  policy makers and the public\n - Communicating with the MediaThe workshop 
 will include both introductory lectures and also hands-on practical parts. 
 In addition to the workshop day, the participants will receive a task to us
 e the skills gained during the workshop during the UArctic Congress (incl. 
 conducting interviews). More information will be communicated to successful
  applicants before the workshop. The results of the workshop and message fr
 om Oulu will be communicated at the Helsinki welcoming reception on Thursda
 y evening (Sep 6th).\n
X-ALT-DESC;FMTTYPE=text/html:<p>The Association of Polar Early Career Scientists (APECS) and the Univers
 ity of the Arctic are jointly organising a science communication workshop i
 n connection with the UArctic Congress 2018 in Oulu, Finland. The main work
 shop day will be on 3 September 2018 but participants will be expected to w
 ork on tasks throughout the duration of the congress.</p><p>The workshop wi
 ll focus on three topics:</p><ul><li>Storytelling as a tool for science com
 munication</li><li>Using social media for science communication</li><li>Com
 municating science to policy makers and the public</li><li>Communicating wi
 th the Media</li></ul><p>The workshop will include both introductory lectur
 es and also hands-on practical parts. In addition to the workshop day, the 
 participants will receive a task to use the skills gained during the worksh
 op during the UArctic Congress (incl. conducting interviews). More informat
 ion will be communicated to successful applicants before the workshop. The 
 results of the workshop and message from Oulu will be communicated at the H
 elsinki welcoming reception on Thursday evening (Sep 6th).</p>
CONTACT:This email address is being protected from spambots. You need JavaScript enabled to view it.
				document.getElementById('cloaka74c5560fccc5e985fcfd5bd2953a584').innerHTML = '';
				var prefix = '&#109;a' + 'i&#108;' + '&#116;o';
				var path = 'hr' + 'ef' + '=';
				var addya74c5560fccc5e985fcfd5bd2953a584 = '&#105;nf&#111;' + '&#64;';
				addya74c5560fccc5e985fcfd5bd2953a584 = addya74c5560fccc5e985fcfd5bd2953a584 + '&#97;p&#101;cs' + '&#46;' + '&#105;s';
				var addy_texta74c5560fccc5e985fcfd5bd2953a584 = '&#105;nf&#111;' + '&#64;' + '&#97;p&#101;cs' + '&#46;' + '&#105;s';document.getElementById('cloaka74c5560fccc5e985fcfd5bd2953a584').innerHTML += '<a ' + path + '\'' + prefix + ':' + addya74c5560fccc5e985fcfd5bd2953a584 + '\'>'+addy_texta74c5560fccc5e985fcfd5bd2953a584+'';
		
DTSTAMP:20260422T022235Z
DTSTART;TZID=UTC;VALUE=DATE:20180903
DTEND;TZID=UTC;VALUE=DATE:20180904
SEQUENCE:0
TRANSP:OPAQUE
END:VEVENT
END:VCALENDAR