BEGIN:VCALENDAR
VERSION:2.0
PRODID:-//jEvents 2.0 for Joomla//EN
CALSCALE:GREGORIAN
METHOD:PUBLISH
BEGIN:VEVENT
UID:8acb3c74931b6d6d760366664b9f0e0b
CATEGORIES:Polar Conferences, Meetings and Events
CREATED:20180807T075951
SUMMARY:US NSF Coastlines and People initiative scoping workshops
LOCATION:San Diego\, Atlanta\, Chicago
DESCRIPTION:Coastlines and People initiative scoping workshops - Application deadline 1
 2 August!\n \nProspective participants are encouraged to apply to attend sc
 oping sessions that will identify priorities for NSF’s Coastlines and Peopl
 e research initiative. Applications are due by Aug. 12 (11:59 pm local time
 ). The workshops will be held 26-28 September.\n \nMore information is avai
 lable on the Coastlines and People scoping session Website https://coastlin
 esandpeople.org/.\n \nFour, simultaneous, three-day scoping sessions will b
 e hosted by the University Corporation for Atmospheric Research and facilit
 ated by Knowinnovation on NSF’s behalf. Workshop will be held in San Diego,
  Chicago, and Atlanta. A fourth “virtual” workshop will be scheduled on mou
 ntain time.\n \nApplicants will be notified of their status by late August.
  Travel support will be provided for participants invited to attend.\n \nMo
 re information and answers to frequently asked questions are on the scoping
 -workshop Website <a href="https://coastlinesandpeople.org/.">https://coast
 linesandpeople.org/.</a>\n
X-ALT-DESC;FMTTYPE=text/html:<p>Coastlines and People initiative scoping workshops - Application deadlin
 e 12 August!<br /> <br />Prospective participants are encouraged to apply t
 o attend scoping sessions that will identify priorities for NSF’s Coastline
 s and People research initiative. Applications are due by Aug. 12 (11:59 pm
  local time). The workshops will be held 26-28 September.<br /> <br />More 
 information is available on the Coastlines and People scoping session Websi
 te <a href="https://coastlinesandpeople.org/.">https://coastlinesandpeople.
 org/.</a><br /> <br />Four, simultaneous, three-day scoping sessions will b
 e hosted by the University Corporation for Atmospheric Research and facilit
 ated by Knowinnovation on NSF’s behalf. Workshop will be held in San Diego,
  Chicago, and Atlanta. A fourth “virtual” workshop will be scheduled on mou
 ntain time.<br /> <br />Applicants will be notified of their status by late
  August. Travel support will be provided for participants invited to attend
 .<br /> <br />More information and answers to frequently asked questions ar
 e on the scoping-workshop Website <a href="https://coastlinesandpeople.org/
 .">https://coastlinesandpeople.org/.</a></p>
DTSTAMP:20260423T144637Z
DTSTART;TZID=UTC;VALUE=DATE:20180926
DTEND;TZID=UTC;VALUE=DATE:20180929
SEQUENCE:0
TRANSP:OPAQUE
END:VEVENT
END:VCALENDAR