BEGIN:VCALENDAR
VERSION:2.0
PRODID:-//jEvents 2.0 for Joomla//EN
CALSCALE:GREGORIAN
METHOD:PUBLISH
BEGIN:VEVENT
UID:bd1c85cdd80e269d58b3de92fd18925f
CATEGORIES:Polar Conferences, Meetings and Events
CREATED:20180717T122151
SUMMARY:UK Antarctic Science Conference
LOCATION:Durham\, UK
DESCRIPTION:This year’s Antarctic Science Conference will be hosted at Durham on 10th-1
 2th September 2018 (the conference will run from Monday lunchtime to Wednes
 day lunchtime). The conference will include oral and poster presentations, 
 and abstracts are invited on any aspect of Antarctic Research. \n \nFurther
  information can be found on the conference website. Registration is open a
 nd the website also contains details of the venue and accommodation booking
 : https://www.dur.ac.uk/uk-antarctic-science/\nAbstract submission is open.
  Please go to <a href="https://www.dur.ac.uk/uk-antarctic-science/abstract/
 ">https://www.dur.ac.uk/uk-antarctic-science/abstract/</a> where you will f
 ind details of posters, talks and a simple abstract template. Abstracts sho
 uld be sent to This email address is being protected from spambots. You nee
 d JavaScript enabled to view it.
				document.getElementById('cloak00a65d01
 37554b6b3c732a07bd3cae01').innerHTML = '';
				var prefix = '&#109;a' + 'i&
 #108;' + '&#116;o';
				var path = 'hr' + 'ef' + '=';
				var addy00a65d013
 7554b6b3c732a07bd3cae01 = '&#97;nt&#97;rct&#105;c.sc&#105;&#101;nc&#101;201
 8' + '&#64;';
				addy00a65d0137554b6b3c732a07bd3cae01 = addy00a65d0137554b
 6b3c732a07bd3cae01 + 'd&#117;rh&#97;m' + '&#46;' + '&#97;c' + '&#46;' + '&#
 117;k';
				var addy_text00a65d0137554b6b3c732a07bd3cae01 = '&#97;nt&#97;rc
 t&#105;c.sc&#105;&#101;nc&#101;2018' + '&#64;' + 'd&#117;rh&#97;m' + '&#46;
 ' + '&#97;c' + '&#46;' + '&#117;k';document.getElementById('cloak00a65d0137
 554b6b3c732a07bd3cae01').innerHTML += '<a ' + path + '\'' + prefix + ':' + 
 addy00a65d0137554b6b3c732a07bd3cae01 + '\'>'+addy_text00a65d0137554b6b3c732
 a07bd3cae01+'';
		. Abstract submission will close on 9th August.\nWe welco
 me submissions on any area of Antarctic Science, and we particularly encour
 age Early Career Researchers to use this opportunity to present their work.
  \n \nWe look forward to seeing you in September.\nLocal organising committ
 ee\n
X-ALT-DESC;FMTTYPE=text/html:<div class="leading-0"><p style="text-align: justify;">This year’s <strong>
 Antarctic Science Conference</strong> will be hosted at <strong>Durham on 1
 0th-12th September 2018</strong> (the conference will run from Monday lunch
 time to Wednesday lunchtime). The conference will include oral and poster p
 resentations, and abstracts are invited on any aspect of Antarctic Research
 . <br /> <br />Further information can be found on the conference website. 
 Registration is open and the website also contains details of the venue and
  accommodation booking: <a href="https://www.dur.ac.uk/uk-antarctic-science
 /">https://www.dur.ac.uk/uk-antarctic-science/</a></p><p style="text-align:
  justify;"><strong>Abstract submission is open</strong>. Please go to <a hr
 ef="https://www.dur.ac.uk/uk-antarctic-science/abstract/">https://www.dur.a
 c.uk/uk-antarctic-science/abstract/</a> where you will find details of post
 ers, talks and a simple abstract template. Abstracts should be sent to <spa
 n id="cloak376fd1ec06f38f7745f45be651793605"><span id="cloak00a65d0137554b6
 b3c732a07bd3cae01">This email address is being protected from spambots. You
  need JavaScript enabled to view it.</span><script type='text/javascript'>

 				document.getElementById('cloak00a65d0137554b6b3c732a07bd3cae01').innerH
 TML = '';
				var prefix = '&#109;a' + 'i&#108;' + '&#116;o';
				var path 
 = 'hr' + 'ef' + '=';
				var addy00a65d0137554b6b3c732a07bd3cae01 = '&#97;n
 t&#97;rct&#105;c.sc&#105;&#101;nc&#101;2018' + '&#64;';
				addy00a65d01375
 54b6b3c732a07bd3cae01 = addy00a65d0137554b6b3c732a07bd3cae01 + 'd&#117;rh&#
 97;m' + '&#46;' + '&#97;c' + '&#46;' + '&#117;k';
				var addy_text00a65d01
 37554b6b3c732a07bd3cae01 = '&#97;nt&#97;rct&#105;c.sc&#105;&#101;nc&#101;20
 18' + '&#64;' + 'd&#117;rh&#97;m' + '&#46;' + '&#97;c' + '&#46;' + '&#117;k
 ';document.getElementById('cloak00a65d0137554b6b3c732a07bd3cae01').innerHTM
 L += '<a ' + path + '\'' + prefix + ':' + addy00a65d0137554b6b3c732a07bd3ca
 e01 + '\'>'+addy_text00a65d0137554b6b3c732a07bd3cae01+'<\/a>';
		</script><
 /span>. Abstract submission will close on <strong>9th August</strong>.</p><
 p style="text-align: justify;">We welcome submissions on any area of Antarc
 tic Science, and we particularly encourage Early Career Researchers to use 
 this opportunity to present their work. <br /> <br />We look forward to see
 ing you in September.</p><p style="text-align: justify;">Local organising c
 ommittee</p></div>
DTSTAMP:20260424T053022Z
DTSTART;TZID=UTC;VALUE=DATE:20180910
DTEND;TZID=UTC;VALUE=DATE:20180913
SEQUENCE:0
TRANSP:OPAQUE
END:VEVENT
END:VCALENDAR