BEGIN:VCALENDAR
VERSION:2.0
PRODID:-//jEvents 2.0 for Joomla//EN
CALSCALE:GREGORIAN
METHOD:PUBLISH
BEGIN:VEVENT
UID:6bdf6a703165dc034998697aec84dc76
CATEGORIES:Polar Conferences, Meetings and Events
CREATED:20180711T150141
SUMMARY:APECS events during Arctic Frontiers 2019
LOCATION:Tromsø\, Norway
DESCRIPTION:January is close and with it the Arctic Frontiers conference in Tromsø, Nor
 way, between January 20 and 24! During the Arctic Frontiers conference, you
  are invited to exciting events where you can present your ideas and resear
 ch results during the poster session. There, the best presenters compete fo
 r the traditional APECS poster awards. The poster sessions will take place 
 on Tuesday and Wednesday at the Clarion Hotel The Edge.\nWe also invite you
  to a panel debate on scientific publishing. During the Arctic Frontiers co
 nference, the Association of Polar Early Career Scientists (APECS) traditio
 nally organizes a panel discussion that aims at a key aspect of career deve
 lopment.\nPublishing the outcome of our research work is among the most pow
 erful tools to share with the world what we have learned, publications emer
 ge from or build on theses, and they measure our success in science. Thus, 
 navigating the publication jungle is an important, exciting and challenging
  task for early career scientists. How to choose a journal that fits the st
 udy, judge its quality, open access publications, and how scientific produc
 tivity and impact are measured through publications are possible questions 
 to be discussed.\nTherefore, the Arctic Frontiers organizing committee of A
 PECS chose to move publications in the focus of this year`s panel. The pane
 l debate is scheduled for Tuesday, January 22, kl. 18:30-19:30 at Fram Cent
 re. We have invited 4 panelists with diverse backgrounds to include a varie
 ty of different angles, to trigger discussions and to exchange experiences.
  The panel will be open to all interested early career scientists. Please b
 ring your own non-alcoholic (!) beverages and snacks or dinner to-go!\nMore
  information on locations can be found in the Arctic Frontiers conference p
 rogram (https://www.arcticfrontiers.com/program/).\n
X-ALT-DESC;FMTTYPE=text/html:<p>January is close and with it the Arctic Frontiers conference in Tromsø, 
 Norway, between January 20 and 24! During the Arctic Frontiers conference, 
 you are invited to exciting events where you can present your ideas and res
 earch results during the <strong>poster session. There, the best presenters
  compete for the traditional APECS poster awards. </strong>The poster sessi
 ons will take place on Tuesday and Wednesday at the Clarion Hotel The Edge.
 </p><p>We also invite you to a <strong>panel debate on scientific publishin
 g</strong>. During the Arctic Frontiers conference, the Association of Pola
 r Early Career Scientists (APECS) traditionally organizes a panel discussio
 n that aims at a key aspect of career development.</p><p>Publishing the out
 come of our research work is among the most powerful tools to share with th
 e world what we have learned, publications emerge from or build on theses, 
 and they measure our success in science. Thus, navigating the publication j
 ungle is an important, exciting and challenging task for early career scien
 tists. How to choose a journal that fits the study, judge its quality, open
  access publications, and how scientific productivity and impact are measur
 ed through publications are possible questions to be discussed.</p><p>There
 fore, the Arctic Frontiers organizing committee of APECS chose to move publ
 ications in the focus of this year`s panel. The panel debate is scheduled f
 or Tuesday, January 22, kl. 18:30-19:30 at Fram Centre. We have invited 4 p
 anelists with diverse backgrounds to include a variety of different angles,
  to trigger discussions and to exchange experiences. The panel will be open
  to all interested early career scientists. Please bring your own non-alcoh
 olic (!) beverages and snacks or dinner to-go!</p><p>More information on lo
 cations can be found in the Arctic Frontiers <a href="https://www.arcticfro
 ntiers.com/program/">conference program</a>.</p>
DTSTAMP:20260422T004244Z
DTSTART;TZID=UTC;VALUE=DATE:20190120
DTEND;TZID=UTC;VALUE=DATE:20190126
SEQUENCE:0
TRANSP:OPAQUE
END:VEVENT
END:VCALENDAR