BEGIN:VCALENDAR
VERSION:2.0
PRODID:-//jEvents 2.0 for Joomla//EN
CALSCALE:GREGORIAN
METHOD:PUBLISH
BEGIN:VEVENT
UID:46ea8dd73dcbb2ec284f9d8ac0d1580a
CATEGORIES:Polar Conferences, Meetings and Events
CREATED:20180711T145816
SUMMARY:Xiamen Symposium on Marine Environmental Sciences
LOCATION:Xiamen\, China
DESCRIPTION:<p>To foster knowledge and ideas exchange within the marine environmental s
 cience community and, in particular, to promote interdisciplinary studies, 
 the State Key Laboratory of Marine Environmental Science (MEL, <a href="htt
 p://mel.xmu.edu.cn/en">http://mel.xmu.edu.cn/en</a>) of Xiamen University i
 nitiated the Xiamen Symposium on Marine Environmental Sciences (XMAS), with
  the overarching theme of The Changing Ocean Environment: From a Multidisci
 plinary Perspective. The XMAS-III (<a href="http://mel.xmu.edu.cn/conferenc
 e/3xmas/">http://mel.xmu.edu.cn/conference/3xmas/</a>) was held in Jan 2017
 , attracting over 620 participants from more than 140 institutions across 2
 1 countries.</p><p>The fourth iteration, XMAS-IV, will be held in Xiamen fr
 om January 6th to 9th, 2019. The symposium will consist of different, inter
 connected sessions covering physical oceanography, marine biogeochemistry, 
 biological oceanography, and marine ecotoxicology along with workshops for 
 emerging topics in marine environmental sciences.</p><p><strong>Abstract su
 bmission deadline: 31 August 2018</strong></p><p>For more information and t
 o submit an abstract, go to:<br /><a href="https://www.arcus.org/sites/all/
 modules/civicrm/extern/url.php?u=10188&amp;qid=1544751" target="_blank" rel
 ="noopener">Symposium homepage</a></p>
DTSTAMP:20260422T043455Z
DTSTART;TZID=UTC;VALUE=DATE:20190106
DTEND;TZID=UTC;VALUE=DATE:20190110
SEQUENCE:0
TRANSP:OPAQUE
END:VEVENT
END:VCALENDAR