BEGIN:VCALENDAR
VERSION:2.0
PRODID:-//jEvents 2.0 for Joomla//EN
CALSCALE:GREGORIAN
METHOD:PUBLISH
BEGIN:VEVENT
UID:ea412724ef8c90909d2a0993e3363375
CATEGORIES:Polar Conferences, Meetings and Events
CREATED:20180531T084904
SUMMARY:NSGG Postgraduate Symposium
LOCATION:Leeds\, UK
DESCRIPTION:<p><strong>NSGG Postgraduate Research Symposium</strong> <br /><strong>Date
 :</strong> Monday 16th July 2018<br /><strong>Venue:</strong> School of Ear
 th and Environment, University of Leeds<br /><strong>Registration fee:</str
 ong> £20 standard delegate rate, £15 concessions (students etc).</p><p>The 
 Near Surface Geophysics Group (NSGG) invites submissions from postgraduate 
 students for our 2018 Postgraduate Research Symposium. The event is hosted 
 in the School of Earth and Environment at the University of Leeds, by the S
 chool’s Institute of Applied Geosciences.</p><p>The NSGG is a special inter
 est group of The Geological Society, with a remit of advancing, encouraging
  and supporting the study and practice of near-surface geophysics throughou
 t the industrial and academic sectors. Our postgraduate symposia offer stud
 ents of near-surface geophysics the opportunity to present their research t
 o their peer group, plus a network of academic and industrial practitioners
 , in a relaxed and supportive environment.</p><p>We solicit abstracts from 
 postgraduate students working in any aspect of near-surface geophysics, inc
 luding environmental investigations, engineering, archaeology, forensic sci
 ence, mineral exploration and geological processes. To mark the Geological 
 Society’s “Year of Resources”, we will hold a special session featuring nea
 r-surface geophysical methods as applied to the characterisation of subsurf
 ace resources (e.g., energy, minerals, water) and their sustainable develop
 ment (e.g., waste disposal, time-lapse monitoring).</p><p>The <strong>deadl
 ine for the submission</strong> of a 500-word abstract, plus 1 optional fig
 ure, is <strong>17:00 on Friday 1st June 2018</strong>. Abstracts should be
  emailed to Dr Adam Booth (<span id="cloak6913c0be0b83e29f95f01f0322bfba0d"
 >This email address is being protected from spambots. You need JavaScript e
 nabled to view it.</span><script type='text/javascript'>
				document.getEl
 ementById('cloak6913c0be0b83e29f95f01f0322bfba0d').innerHTML = '';
				var 
 prefix = '&#109;a' + 'i&#108;' + '&#116;o';
				var path = 'hr' + 'ef' + '=
 ';
				var addy6913c0be0b83e29f95f01f0322bfba0d = '&#97;.d.b&#111;&#111;th'
  + '&#64;';
				addy6913c0be0b83e29f95f01f0322bfba0d = addy6913c0be0b83e29f
 95f01f0322bfba0d + 'l&#101;&#101;ds' + '&#46;' + '&#97;c' + '&#46;' + '&#11
 7;k';
				var addy_text6913c0be0b83e29f95f01f0322bfba0d = '&#97;.d.b&#111;&
 #111;th' + '&#64;' + 'l&#101;&#101;ds' + '&#46;' + '&#97;c' + '&#46;' + '&#
 117;k';document.getElementById('cloak6913c0be0b83e29f95f01f0322bfba0d').inn
 erHTML += '<a ' + path + '\'' + prefix + ':' + addy6913c0be0b83e29f95f01f03
 22bfba0d + '\'>'+addy_text6913c0be0b83e29f95f01f0322bfba0d+'<\/a>';
		</scr
 ipt>); a preference for oral (15+5 mins) presentation will be assumed unles
 s poster format is requested. All presenters will be considered for the NSG
 G Best Presentation Award.</p><p>Delegates are required to register in adva
 nce, but payment can be taken on the day. Your registration fee includes lu
 nch and refreshments, generously sponsored by Geomatrix Earth Science Ltd, 
 and a post-symposium reception at the end of the day. We look forward to we
 lcoming you to Leeds!</p>
CONTACT:Adam Booth (This email address is being protected from spambots. You need JavaScript enabled to view it.
				document.getElementById('cloak0bc02ad97fc88db0971c079ff9623de2').innerHTML = '';
				var prefix = '&#109;a' + 'i&#108;' + '&#116;o';
				var path = 'hr' + 'ef' + '=';
				var addy0bc02ad97fc88db0971c079ff9623de2 = '&#97;.d.b&#111;&#111;th' + '&#64;';
				addy0bc02ad97fc88db0971c079ff9623de2 = addy0bc02ad97fc88db0971c079ff9623de2 + 'l&#101;&#101;ds' + '&#46;' + '&#97;c' + '&#46;' + '&#117;k';
				var addy_text0bc02ad97fc88db0971c079ff9623de2 = '&#97;.d.b&#111;&#111;th' + '&#64;' + 'l&#101;&#101;ds' + '&#46;' + '&#97;c' + '&#46;' + '&#117;k';document.getElementById('cloak0bc02ad97fc88db0971c079ff9623de2').innerHTML += '<a ' + path + '\'' + prefix + ':' + addy0bc02ad97fc88db0971c079ff9623de2 + '\'>'+addy_text0bc02ad97fc88db0971c079ff9623de2+'';
		)
X-EXTRAINFO:http://www.nsgg.org.uk/meetings/
DTSTAMP:20260423T192823Z
DTSTART;TZID=UTC;VALUE=DATE:20180716
DTEND;TZID=UTC;VALUE=DATE:20180717
SEQUENCE:0
TRANSP:OPAQUE
END:VEVENT
END:VCALENDAR