BEGIN:VCALENDAR
VERSION:2.0
PRODID:-//jEvents 2.0 for Joomla//EN
CALSCALE:GREGORIAN
METHOD:PUBLISH
BEGIN:VEVENT
UID:0d8fc7a2a97d51dcd4ce6eb68b279e2b
CATEGORIES:Polar Conferences, Meetings and Events
CREATED:20180517T134308
SUMMARY:Polar CORDEX meeting
LOCATION:Warsaw\, Poland
DESCRIPTION:<p>The next <strong>Polar CORDEX meeting</strong> will be held from <strong
 >17-19 October 2018 in Warsaw, Poland</strong>.</p><p>The primary goal of t
 he meeting is to review the status of on-going Polar CORDEX activities and 
 to plan and coordinate future activities.</p><p>Please register for the 201
 8 Polar CORDEX meeting by filling out the registration form at: <a href="ht
 tp://bit.ly/2EuEk8Z">http://bit.ly/2EuEk8Z</a> <br />The <strong>deadline f
 or registration is 15 September 2018</strong>.</p><p>If you are giving a pr
 esentation, then please send a title and short abstract to <span id="cloakd
 8f59dfcfc072ccc2765410c87dd4597">This email address is being protected from
  spambots. You need JavaScript enabled to view it.</span><script type='text
 /javascript'>
				document.getElementById('cloakd8f59dfcfc072ccc2765410c87d
 d4597').innerHTML = '';
				var prefix = '&#109;a' + 'i&#108;' + '&#116;o';
 
				var path = 'hr' + 'ef' + '=';
				var addyd8f59dfcfc072ccc2765410c87dd
 4597 = 'm&#97;rz' + '&#64;';
				addyd8f59dfcfc072ccc2765410c87dd4597 = add
 yd8f59dfcfc072ccc2765410c87dd4597 + '&#105;gf' + '&#46;' + '&#101;d&#117;' 
 + '&#46;' + 'pl';
				var addy_textd8f59dfcfc072ccc2765410c87dd4597 = 'm&#9
 7;rz' + '&#64;' + '&#105;gf' + '&#46;' + '&#101;d&#117;' + '&#46;' + 'pl';d
 ocument.getElementById('cloakd8f59dfcfc072ccc2765410c87dd4597').innerHTML +
 = '<a ' + path + '\'' + prefix + ':' + addyd8f59dfcfc072ccc2765410c87dd4597
  + '\'>'+addy_textd8f59dfcfc072ccc2765410c87dd4597+'<\/a>';
		</script> </p
 >
DTSTAMP:20260421T212259Z
DTSTART;TZID=UTC;VALUE=DATE:20181017
DTEND;TZID=UTC;VALUE=DATE:20181020
SEQUENCE:0
TRANSP:OPAQUE
END:VEVENT
END:VCALENDAR