BEGIN:VCALENDAR
VERSION:2.0
PRODID:-//jEvents 2.0 for Joomla//EN
CALSCALE:GREGORIAN
METHOD:PUBLISH
BEGIN:VEVENT
UID:d91adcffeaa8f7e32d9613a64dce8d56
CATEGORIES:Polar Conferences, Meetings and Events
CREATED:20160603T150236
SUMMARY:14th Conference on Polar Meteorology and Oceanography
LOCATION:Seattle\, USA
DESCRIPTION:<p><span class="" style="font-size: 12pt; font-family: 'Times New Roman';">
 Abstract submission for the 14<sup class="">th</sup> Conference on Polar Me
 teorology and Oceanography, held as part of the 97<sup class="">th</sup> An
 nual Meeting of the American Meteorological Society (AMS) from <strong>22-2
 6 January 2017</strong> in Seattle, WA is now open.  Submissions on all asp
 ects of polar weather, climate, and oceanography are being solicited. </spa
 n></p><p><span class="" style="font-size: 12pt; font-family: 'Times New Rom
 an';">The conference will include invited and contributed oral and poster p
 resentations, joint sessions between other relevant AMS conferences, and ac
 tivities for early career polar scientists on behalf of the Association for
  Polar Early Career Scientists (APECS). Participation from students is espe
 cially encouraged, as we will be awarding first and second place prizes for
  both oral and poster presentations given by students, as well as four stud
 ent travel awards to partially offset registration and travel expenses.  Th
 e abstract deadline is <strong class="">August 1</strong> <strong class="">
 2016</strong>.</span></p><p><span class="" style="font-size: 12pt; font-fam
 ily: 'Times New Roman';">For further information and a link to submit an ab
 stract, see the Call for Papers at <a href="https://annual.ametsoc.org/2017
 /index.cfm/programs/conferences-and-symposia/14th-conference-on-polar-meteo
 rology-and-oceanography/" class=""> </a><a href="https://annual.ametsoc.org
 /2017/index.cfm/programs/conferences-and-symposia/14th-conference-on-polar-
 meteorology-and-oceanography/">https://annual.ametsoc.org/2017/index.cfm/pr
 ograms/conferences-and-symposia/14th-conference-on-polar-meteorology-and-oc
 eanography/</a>, or feel free to contact the Program Chair, Dr. Ryan Fogt (
 <span id="cloakd53ad2aae02a0dd73f9c1c06caab0f1f">This email address is bein
 g protected from spambots. You need JavaScript enabled to view it.</span><s
 cript type='text/javascript'>
				document.getElementById('cloakd53ad2aae02
 a0dd73f9c1c06caab0f1f').innerHTML = '';
				var prefix = '&#109;a' + 'i&#10
 8;' + '&#116;o';
				var path = 'hr' + 'ef' + '=';
				var addyd53ad2aae02a
 0dd73f9c1c06caab0f1f = 'f&#111;gtr' + '&#64;';
				addyd53ad2aae02a0dd73f9c
 1c06caab0f1f = addyd53ad2aae02a0dd73f9c1c06caab0f1f + '&#111;h&#105;&#111;'
  + '&#46;' + '&#101;d&#117;';
				var addy_textd53ad2aae02a0dd73f9c1c06caab
 0f1f = 'f&#111;gtr' + '&#64;' + '&#111;h&#105;&#111;' + '&#46;' + '&#101;d&
 #117;';document.getElementById('cloakd53ad2aae02a0dd73f9c1c06caab0f1f').inn
 erHTML += '<a ' + path + '\'' + prefix + ':' + addyd53ad2aae02a0dd73f9c1c06
 caab0f1f + '\' class="">'+addy_textd53ad2aae02a0dd73f9c1c06caab0f1f+'<\/a>'
 ;
		</script>).</span></p>
CONTACT:https://annual.ametsoc.org/2017/index.cfm/programs/conferences-and-symposia/14th-conference-on-polar-meteorology-and-oce
DTSTAMP:20260422T043835Z
DTSTART;TZID=UTC;VALUE=DATE:20170122
DTEND;TZID=UTC;VALUE=DATE:20170127
SEQUENCE:0
TRANSP:OPAQUE
END:VEVENT
END:VCALENDAR