BEGIN:VCALENDAR
VERSION:2.0
PRODID:-//jEvents 2.0 for Joomla//EN
CALSCALE:GREGORIAN
METHOD:PUBLISH
BEGIN:VEVENT
UID:689cdb6640e74eff94bf182463cb9300
CATEGORIES:Polar Conferences, Meetings and Events
CREATED:20180424T100015
SUMMARY:Antarctic and Southern Ocean Forum for Engineering, Science and Technology (ASOF-fest)
LOCATION:Hobart\, Tasmania\, Australia
DESCRIPTION:This is a 4-day symposium designed to bring scientists and engineers togeth
 er to solve polar engineering problems.\nLocation: CSIRO Auditorium, Hobart
 , Tasmania, Australia\nDates: 14 to 17 August, 2018\nWebsite: https://asof2
 018.ieee.org/\nAbstracts deadline: 31 May 2018\nEarly Registration: 27 June
  2018\nFlyer: <a href="https://asof2018.ieee.org/wp-content/uploads/sites/2
 /2018/04/Flyer_ASOF-fest-2018_2.pdf" target="_blank" rel="noopener">https:/
 /asof2018.ieee.org/wp-content/uploads/sites/2/2018/04/Flyer_ASOF-fest-2018_
 2.pdf </a>\n
X-ALT-DESC;FMTTYPE=text/html:<p style="text-align: justify;">This is a 4-day symposium designed to bring
  scientists and engineers together to solve polar engineering problems.</p>
 <p style="text-align: justify;"><strong>Location:</strong> CSIRO Auditorium
 , Hobart, Tasmania, Australia<br /><strong>Dates:</strong> 14 to 17 August,
  2018<br /><strong>Website:</strong> <a href="https://asof2018.ieee.org/" t
 arget="_blank" rel="noopener">https://asof2018.ieee.org/</a><br /><strong>A
 bstracts deadline:</strong> 31 May 2018<br /><strong>Early Registration:</s
 trong> 27 June 2018<br /><strong>Flyer:</strong> <a href="https://asof2018.
 ieee.org/wp-content/uploads/sites/2/2018/04/Flyer_ASOF-fest-2018_2.pdf" tar
 get="_blank" rel="noopener">https://asof2018.ieee.org/wp-content/uploads/si
 tes/2/2018/04/Flyer_ASOF-fest-2018_2.pdf </a></p>
DTSTAMP:20260421T072913Z
DTSTART;TZID=UTC;VALUE=DATE:20180814
DTEND;TZID=UTC;VALUE=DATE:20180818
SEQUENCE:0
TRANSP:OPAQUE
END:VEVENT
END:VCALENDAR