BEGIN:VCALENDAR
VERSION:2.0
PRODID:-//jEvents 2.0 for Joomla//EN
CALSCALE:GREGORIAN
METHOD:PUBLISH
BEGIN:VEVENT
UID:4607ed2b1a26984dc75dc55628d653f2
CATEGORIES:Polar Conferences, Meetings and Events
CREATED:20180424T095143
SUMMARY:2018 ArcticNet Annual Scientific Meeting
LOCATION:Shaw Centre in Ottawa\, Canada
DESCRIPTION:Canada’s North is experiencing unprecedented change in its sea and terrestr
 ial ice, permafrost and ecosystems under the triple pressures of climate ch
 ange, industrialization and modernization. The impacts of these pressures c
 an be seen on food and energy security, shipping, sovereignty, northern com
 munity health and well-being, and sustainable development and resource expl
 oitation. All these issues have brought the North to the forefront of natio
 nal and international agendas.\nBuilding on the success of its previous Ann
 ual Scientific Meetings and International Arctic Change Conferences, the Ar
 cticNet Network of Centres of Excellence announces the 14th ArcticNet Annua
 l Scientific Meeting, which will be held at the Shaw Centre in Ottawa, Cana
 da from December 10 -14, 2018.\nArctic researchers, Inuit, First Nations, M
 étis and Northern Community representatives, government and non-government 
 organizations, students, and industry stakeholders are encouraged to attend
 .\nGeneral Topics\nThe ASM2018 will be the largest national venue for scien
 tific exchange across a broad range of Arctic research disciplines in natur
 al, human health and social sciences. General topics to be addressed includ
 e, but are not restricted to:\n• Monitoring, Modeling and Predicting Circum
 polar and Regional Arctic Systems\n• Ocean and Atmospheric Fluxes through t
 he Arctic\n• Sensitivity and Change of Cryospheric Systems\n• Tracking and 
 Predicting Socio-Economic, and Cultural Change in the Arctic\n• Rapid Arcti
 c Transitions and Impacts on Infrastructure and Planning\n• Community Adapt
 ation and Vulnerability in the Arctic Regions\n• Mapping the Arctic Ocean, 
 Continental Shelves and Margins\n• Arctic Marine and Terrestrial Ecosystem 
 Structure, Biodiversity and Services\n• Coastal Processes and the Vulnerabi
 lity of Communities, Infrastructures and Resources\n• Assessing, Understand
 ing and Monitoring the Health of Ecosystems and Humans in the Arctic\n• Leg
 al, Political, Security and Navigation Issues in Opening Arctic Waterways\n
 • Sustainable Development and Prosperity in the Arctic\n• Adapting New Tech
 nologies to the Advantage of Arctic Research and Monitoring\n• Arctic Data 
 Management, Access and Integration\n• From Knowledge to Decision and Policy
 -Making\n• New Research Priorities listed in the ArcticNet 2018 Call for Le
 tters Of Intent (http://www.arcticnet.ulaval.ca/research/call-2018.php)\nVi
 sit the ASM2018 website: <a href="http://www.arcticnetmeetings.ca/asm2018/i
 ndex.php">http://www.arcticnetmeetings.ca/asm2018/index.php</a>\nInformatio
 n will soon be available on the Conference, venue, lodging, registration, s
 ponsor/exhibitor opportunities.\nASM2018 is inviting Session Proposals for 
 the 2018 ArcticNet Annual Scientific Meeting (ASM2018) (http://www.arcticne
 tmeetings.ca/asm2018/index.php) until Friday, May 18, 2018.\n<a href="https
 ://arcticnet.formstack.com/forms/asm2018_call_for_sessions" target="_blank"
  rel="noopener">Session submission form</a>\n
X-ALT-DESC;FMTTYPE=text/html:<p>Canada’s North is experiencing unprecedented change in its sea and terre
 strial ice, permafrost and ecosystems under the triple pressures of climate
  change, industrialization and modernization. The impacts of these pressure
 s can be seen on food and energy security, shipping, sovereignty, northern 
 community health and well-being, and sustainable development and resource e
 xploitation. All these issues have brought the North to the forefront of na
 tional and international agendas.</p><p>Building on the success of its prev
 ious Annual Scientific Meetings and International Arctic Change Conferences
 , the ArcticNet Network of Centres of Excellence announces the 14th ArcticN
 et Annual Scientific Meeting, which will be held at the Shaw Centre in <str
 ong>Ottawa, Canada from December 10 -14, 2018</strong>.</p><p>Arctic resear
 chers, Inuit, First Nations, Métis and Northern Community representatives, 
 government and non-government organizations, students, and industry stakeho
 lders are encouraged to attend.</p><p><strong>General Topics</strong></p><p
 >The ASM2018 will be the largest national venue for scientific exchange acr
 oss a broad range of Arctic research disciplines in natural, human health a
 nd social sciences. General topics to be addressed include, but are not res
 tricted to:</p><p>• Monitoring, Modeling and Predicting Circumpolar and Reg
 ional Arctic Systems<br />• Ocean and Atmospheric Fluxes through the Arctic
 <br />• Sensitivity and Change of Cryospheric Systems<br />• Tracking and P
 redicting Socio-Economic, and Cultural Change in the Arctic<br />• Rapid Ar
 ctic Transitions and Impacts on Infrastructure and Planning<br />• Communit
 y Adaptation and Vulnerability in the Arctic Regions<br />• Mapping the Arc
 tic Ocean, Continental Shelves and Margins<br />• Arctic Marine and Terrest
 rial Ecosystem Structure, Biodiversity and Services<br />• Coastal Processe
 s and the Vulnerability of Communities, Infrastructures and Resources<br />
 • Assessing, Understanding and Monitoring the Health of Ecosystems and Huma
 ns in the Arctic<br />• Legal, Political, Security and Navigation Issues in
  Opening Arctic Waterways<br />• Sustainable Development and Prosperity in 
 the Arctic<br />• Adapting New Technologies to the Advantage of Arctic Rese
 arch and Monitoring<br />• Arctic Data Management, Access and Integration<b
 r />• From Knowledge to Decision and Policy-Making<br />• New Research Prio
 rities listed in the <a href="http://www.arcticnet.ulaval.ca/research/call-
 2018.php" target="_blank" rel="noopener">ArcticNet 2018 Call for Letters Of
  Intent</a></p><p>Visit the ASM2018 website: <a href="http://www.arcticnetm
 eetings.ca/asm2018/index.php">http://www.arcticnetmeetings.ca/asm2018/index
 .php</a></p><p>Information will soon be available on the Conference, venue,
  lodging, registration, sponsor/exhibitor opportunities.</p><p>ASM2018 is i
 nviting <strong>Session Proposals</strong> for the <a href="http://www.arct
 icnetmeetings.ca/asm2018/index.php" target="_blank" rel="noopener">2018 Arc
 ticNet Annual Scientific Meeting (ASM2018)</a> until <strong>Friday, May 18
 , 2018</strong>.</p><p><a href="https://arcticnet.formstack.com/forms/asm20
 18_call_for_sessions" target="_blank" rel="noopener">Session submission for
 m</a></p>
DTSTAMP:20260421T063309Z
DTSTART;TZID=UTC;VALUE=DATE:20181210
DTEND;TZID=UTC;VALUE=DATE:20181215
SEQUENCE:0
TRANSP:OPAQUE
END:VEVENT
END:VCALENDAR